BEGIN:VCALENDAR
VERSION:2.0
PRODID:-//Arkiv för Barn i Uppsala - ECPv5.1.6//NONSGML v1.0//EN
CALSCALE:GREGORIAN
METHOD:PUBLISH
X-WR-CALNAME:Arkiv för Barn i Uppsala
X-ORIGINAL-URL:https://arkiv.barniuppsala.se
X-WR-CALDESC:Händelser för Arkiv för Barn i Uppsala
BEGIN:VTIMEZONE
TZID:Europe/Stockholm
BEGIN:DAYLIGHT
TZOFFSETFROM:+0100
TZOFFSETTO:+0200
TZNAME:CEST
DTSTART:20210328T010000
END:DAYLIGHT
BEGIN:STANDARD
TZOFFSETFROM:+0200
TZOFFSETTO:+0100
TZNAME:CET
DTSTART:20211031T010000
END:STANDARD
END:VTIMEZONE
BEGIN:VEVENT
DTSTART;TZID=Europe/Stockholm:20210211T150000
DTEND;TZID=Europe/Stockholm:20210211T150000
DTSTAMP:20260420T035907
CREATED:20210208T145154Z
LAST-MODIFIED:20210208T145505Z
UID:74250-1613055600-1613055600@arkiv.barniuppsala.se
SUMMARY:Digital bokstund | Pelle svanslös öppna förskola
DESCRIPTION:Digital bokstund | Pelle svanslös öppna förskola\nMed anledning av de skärpta nationella föreskrifterna för att minska spridningen av COVID-19\, bedrivs verksamheten på Pelle Svanslös öppna förskola helt digitalt fram till och med 21 februari 2021. \nDet blir läsning ur en barnbok och därefter lite prat om bokens tema eller annat som känns aktuellt för dagen. \nBokstunder under perioden 11 februari – 21 februari 2021:\nTorsdag 11 februari kl. 15:00 via Teams.\nTisdag 16 februari kl. 09:00 via Teams.\nTorsdag 18 februari kl 15:00 via Teams. \nRekommenderad ålder: 0-2 år\nKostnad: Gratis\nAnmälan: Anmälan ska göras genom att skicka ett sms till 070-020 95 21. Kom ihåg att ange vilken aktivitet\, dag och tid du anmäler dig till. \nFör att delta via TEAMS behöver du en dator\, surfplatta eller smarttelefon\, en ok internetuppkoppling samt tillgång till videofunktion. Om du deltar via mobil eller surfplatta behöver du ladda ner Teams-appen men om du använder dator kan du delta via nätet (obs: webbläsare Microsoft Edge eller Google Chrome). För att kunna se alla deltagare när du deltar via datorn\, behöver du ladda ner Teams\, det blir du hänvisad till när du klickar på länken. Om du använder mobiltelefon behöver du bläddra för att se alla. \n  \n\nOm Pelle Svanslös öppna förskola\nPelle Svanslös öppna förskola är en mötesplats för barn i åldrarna 0-6 år tillsammans med en vuxen. Hos oss får ni roliga\, gemensamma upplevelser. Genom lek\, musik och skapande vill vi stimulera barnens utveckling och ge dem möjligheter att utvecklas både individuellt och i gemenskap med andra. \nVi samverkar med Uppsala kommun\, Samariterhemmets mödravårds och barnavårdscentral\, Aleris Barncentrum och andra organisationer som kommer i kontakt med barnfamiljer. Öppna förskolans verksamhet är politiskt och religiöst oberoende. \n\nBesök gärna länkarna nedan (externa länkar öppnas i ett nytt fönster/flik).\nPelle Svanslös öppna förskola | Kommande event inom litteratur | Kommande digitala event \nFoto: Ben White \n0SHARESDela eventet
URL:https://arkiv.barniuppsala.se/event/digital-bokstund-pelle-svanslos-oppna-forskola-februari-2021/2021-02-11/
LOCATION:– Digitalt Event –\, Sverige
CATEGORIES:Ålderskategori,Älvkarleby Kommun,Anmälan,Anmälan / Kostnad,Barn,Centrum,Digitala event,Enköpings Kommun,Eriksberg,Eventkategorier,Familj,Främre Luthagen-Fjärdingen,Fyrislund,Gamla Uppsala,Geografisk kategori,Gottsunda,Gränby,Gratis,Håbo Kommun,Heby Kommun,Kåbo,Knivsta Kommun,Kunskap och Lärande,Lärande lek,Litteratur och Poesi,Norrtälje Kommun,Östhammars Kommun,Pelle Svanslös,Sagostund – barn,Sävja,Slottet-Sjukhuset,Stenhagen,Svartbäcken,Tierps Kommun,Ulleråker,Uppsala Kommun,? Uppsala
ATTACH;FMTTYPE=image/jpeg:https://arkiv.barniuppsala.se/wp-content/uploads/2021/02/ben-white-qDY9ahp0Mto-unsplash-e1612795115510.jpg
ORGANIZER;CN="Pelle%20Svansl%C3%B6s%20%C3%B6ppna%20f%C3%B6rskola":MAILTO:svanslos@cforetaget.se
END:VEVENT
END:VCALENDAR