BEGIN:VCALENDAR
VERSION:2.0
PRODID:-//Arkiv för Barn i Uppsala - ECPv5.1.6//NONSGML v1.0//EN
CALSCALE:GREGORIAN
METHOD:PUBLISH
X-WR-CALNAME:Arkiv för Barn i Uppsala
X-ORIGINAL-URL:https://arkiv.barniuppsala.se
X-WR-CALDESC:Händelser för Arkiv för Barn i Uppsala
BEGIN:VTIMEZONE
TZID:Europe/Stockholm
BEGIN:DAYLIGHT
TZOFFSETFROM:+0100
TZOFFSETTO:+0200
TZNAME:CEST
DTSTART:20150329T010000
END:DAYLIGHT
BEGIN:STANDARD
TZOFFSETFROM:+0200
TZOFFSETTO:+0100
TZNAME:CET
DTSTART:20151025T010000
END:STANDARD
END:VTIMEZONE
BEGIN:VEVENT
DTSTART;TZID=Europe/Stockholm:20151226T180000
DTEND;TZID=Europe/Stockholm:20151226T203000
DTSTAMP:20260422T091853
CREATED:20151222T101009Z
LAST-MODIFIED:20151222T101009Z
UID:5532-1451152800-1451161800@arkiv.barniuppsala.se
SUMMARY:Maskeraddisco i Skutskär
DESCRIPTION:Maskeraddisco med tema sagor och monster i i Skutskär. \nFör barn och unga\, barn med målsman ingen åldersgräns\, annars 6-14 år. \nPlats: Ordenshuset Fjärde Tvärgatan 12. Tid: 18-20.30 Annandagen 26 december. \nFri entré\, ingen föranmälan. \nBild: pixabay.com. \n0SHARESDela eventet
URL:https://arkiv.barniuppsala.se/event/disco-i-skutskar/
LOCATION:Ordenshuset\, Fjärde Tvärgatan 12\, Skutskär\, 81440\, Sverige
CATEGORIES:Teater och Bio
ATTACH;FMTTYPE=image/png:https://arkiv.barniuppsala.se/wp-content/uploads/2015/12/maskeraddisco.png
GEO:60.6208228;17.41264
X-APPLE-STRUCTURED-LOCATION;VALUE=URI;X-ADDRESS=Ordenshuset Fjärde Tvärgatan 12 Skutskär 81440 Sverige;X-APPLE-RADIUS=500;X-TITLE=Fjärde Tvärgatan 12:geo:17.41264,60.6208228
END:VEVENT
END:VCALENDAR