BEGIN:VCALENDAR
VERSION:2.0
PRODID:-//Arkiv för Barn i Uppsala - ECPv5.1.6//NONSGML v1.0//EN
CALSCALE:GREGORIAN
METHOD:PUBLISH
X-WR-CALNAME:Arkiv för Barn i Uppsala
X-ORIGINAL-URL:https://arkiv.barniuppsala.se
X-WR-CALDESC:Händelser för Arkiv för Barn i Uppsala
BEGIN:VTIMEZONE
TZID:Europe/Stockholm
BEGIN:DAYLIGHT
TZOFFSETFROM:+0100
TZOFFSETTO:+0200
TZNAME:CEST
DTSTART:20180325T010000
END:DAYLIGHT
BEGIN:STANDARD
TZOFFSETFROM:+0200
TZOFFSETTO:+0100
TZNAME:CET
DTSTART:20181028T010000
END:STANDARD
END:VTIMEZONE
BEGIN:VEVENT
DTSTART;TZID=Europe/Stockholm:20180929T150000
DTEND;TZID=Europe/Stockholm:20180929T154000
DTSTAMP:20260422T104246
CREATED:20180927T110108Z
LAST-MODIFIED:20180927T110237Z
UID:23725-1538233200-1538235600@arkiv.barniuppsala.se
SUMMARY:Fyrisbiografen visar Djurvännerna för de allra minsta
DESCRIPTION:Fyrisbiografen visar Djurvännerna för de allra minsta\nMissa inte chansen att se Djurvännerna på Fyrisbiografen\, animerade kortfilmer anpassat för de minsta barnen.\nI “En Fågeldag” följer vi fågelbarnens äventyrliga promenad bort från hemmet\, från ljus morgon till mörk natt.\nI “Jag rymmer!” har det lilla fåret bestämt sig för att lämna sin flock.\nI “Min vän Lage” möter vi ugglan Lage som lämnat sitt hem i den mörka skogen för att bli storstadsuggla. \nEn trilogi på 3 x 12 minuter av barnboksförfattaren och illustratören Eva Lindström. \nEva Lindström är den författare som har blivit nominerad flest gånger till Augustpriset\, med hela 11 gånger! Hon har skrivit och illustrerat sina böcker varav några av hennes verk nu visas i form av kortfilmer. \nDatum: 29 och 30 september 2018\nTid: 14:00\nPlats: Fyrisbiografen\nPris: 50 kr\nÅlder: Rekommenderad ålder 2-5 år. \n  \n\nBesök gärna länken nedan för mer information (öppnas i nytt fönster/flik).\nFyrisbiografen \nBild: från arrangör \n0SHARESDela eventet
URL:https://arkiv.barniuppsala.se/event/djurvannerna-pa-fyrisbiografen-i-uppsala/2018-09-29/
LOCATION:Fyrisbiografen\, S:t Olofsgatan 10\, Uppsala\, 75312\, Sverige
CATEGORIES:Barn,Bio,Djur
ATTACH;FMTTYPE=image/jpeg:https://arkiv.barniuppsala.se/wp-content/uploads/2018/09/unnamed-1-1.jpg
GEO:59.8579889;17.6286964
X-APPLE-STRUCTURED-LOCATION;VALUE=URI;X-ADDRESS=Fyrisbiografen S:t Olofsgatan 10 Uppsala 75312 Sverige;X-APPLE-RADIUS=500;X-TITLE=S:t Olofsgatan 10:geo:17.6286964,59.8579889
END:VEVENT
END:VCALENDAR