BEGIN:VCALENDAR
VERSION:2.0
PRODID:-//Arkiv för Barn i Uppsala - ECPv5.1.6//NONSGML v1.0//EN
CALSCALE:GREGORIAN
METHOD:PUBLISH
X-WR-CALNAME:Arkiv för Barn i Uppsala
X-ORIGINAL-URL:https://arkiv.barniuppsala.se
X-WR-CALDESC:Händelser för Arkiv för Barn i Uppsala
BEGIN:VTIMEZONE
TZID:Europe/Stockholm
BEGIN:DAYLIGHT
TZOFFSETFROM:+0100
TZOFFSETTO:+0200
TZNAME:CEST
DTSTART:20170326T010000
END:DAYLIGHT
BEGIN:STANDARD
TZOFFSETFROM:+0200
TZOFFSETTO:+0100
TZNAME:CET
DTSTART:20171029T010000
END:STANDARD
END:VTIMEZONE
BEGIN:VEVENT
DTSTART;TZID=Europe/Stockholm:20170819T130000
DTEND;TZID=Europe/Stockholm:20170819T133000
DTSTAMP:20260420T131805
CREATED:20170809T072535Z
LAST-MODIFIED:20170817T115103Z
UID:14916-1503147600-1503149400@arkiv.barniuppsala.se
SUMMARY:Dockteater: Bonifacius sommarlov  Obs! Tiderna är ändrade för att passa tågtidtabellen!
DESCRIPTION:Dockteater\nBonifacius sommarlov\nDockteatersföreställning med inslag av skuggteater. För barn mellan ca 3 och 8 år. \nHandling:\nDet supersnälla lejonet Bonifacius jobbar på en cirkus. En gång upptäcker han till sin stora förvåning att somliga har sommarlov medan han själv aldrig haft något sånt. Och han får det! Du får se hur det gick med ledigheten och alla drömmarna. \n  \nHär kan du se en kort film om föreställningen Bonifacius sommarlov. \nSagan är skriven av Milos Macourek  och bearbetad av Feodor Hitruk. \nMedverkande: Erik Lindgren och Jekaterina Pertoft\nSpeltid: Ca 30 min \n  \nNär: Lördag 19 augusti samt söndag 20 augusti\, klockan 12:00 alternativt 14.25. Obs! Tiderna är ändrade för att passa tågtidtabellen!\nPlats: Marielunds dockteater vid Almunge station.\nDu kan enklast komma till Almunge station med Lennakattens tåg från Centralstation\, spår 10\, Stationsgatan 11. Se lennakatten.se för tidtabell. Föreställningarnas början och slut är anpassade till tidtabellen.\nEn annan möjlighet är att komma med buss 809 som också går från Centralstationen\, hållplats B2 och stannar vid Almunge station. \nPris: 50 kr per person\, betalas med kontant eller Swish i dörren före föreställningen \nFör mer information om föreställningen\, gå in på Marielunds dockteater\, här \n  \nBild från www.dockteatern.se \n0SHARESDela eventet
URL:https://arkiv.barniuppsala.se/event/dockteater-bonifacius-sommarlov/2017-08-19/
LOCATION:Marielund station\, Marielund 118\, Uppsala\, 75597\, Sverige
CATEGORIES:Sommarlov,Teater
ATTACH;FMTTYPE=image/jpeg:https://arkiv.barniuppsala.se/wp-content/uploads/2017/08/Bonifacius_Alexandra_Dmitrevna_Jekaterina_Pertoft.jpg
ORGANIZER;CN="Marielunds%20dockteater":MAILTO:katja@pertoft.com
GEO:59.8428456;17.874914
X-APPLE-STRUCTURED-LOCATION;VALUE=URI;X-ADDRESS=Marielund station Marielund 118 Uppsala 75597 Sverige;X-APPLE-RADIUS=500;X-TITLE=Marielund 118:geo:17.874914,59.8428456
END:VEVENT
END:VCALENDAR