BEGIN:VCALENDAR
VERSION:2.0
PRODID:-//Arkiv för Barn i Uppsala - ECPv5.1.6//NONSGML v1.0//EN
CALSCALE:GREGORIAN
METHOD:PUBLISH
X-WR-CALNAME:Arkiv för Barn i Uppsala
X-ORIGINAL-URL:https://arkiv.barniuppsala.se
X-WR-CALDESC:Händelser för Arkiv för Barn i Uppsala
BEGIN:VTIMEZONE
TZID:Europe/Stockholm
BEGIN:DAYLIGHT
TZOFFSETFROM:+0100
TZOFFSETTO:+0200
TZNAME:CEST
DTSTART:20180325T010000
END:DAYLIGHT
BEGIN:STANDARD
TZOFFSETFROM:+0200
TZOFFSETTO:+0100
TZNAME:CET
DTSTART:20181028T010000
END:STANDARD
END:VTIMEZONE
BEGIN:VEVENT
DTSTART;TZID=Europe/Stockholm:20180211T110000
DTEND;TZID=Europe/Stockholm:20180211T113000
DTSTAMP:20260420T152203
CREATED:20180119T101132Z
LAST-MODIFIED:20180205T083027Z
UID:17813-1518346800-1518348600@arkiv.barniuppsala.se
SUMMARY:Dockteater på Barnens Å-hus
DESCRIPTION:När lilla Myra fick bråttom hem\nSkogssaga som skuggteater för barn 2-8 år.\n\nDen lilla Myran kom på vift från sin myrstack. Hur hinner hon nu komma hem innan solen går ner och stacken stänger för kvällen? Men oj\, vad stressigt det blev! Och så många spännande och knasiga insekter som dyker upp på vägen!\n\nUppsättningen bygger på natursaga av den ryska författaren V.Bianki och beskriver insekternas liv på ett vackert\, spännande och pedagogisk sätt. Efter föreställningen kan man provspela dockor bakom ridån.\nMedverkande: Mari-Louise Sahlberg och Jekaterina Pertoft\n\n\n\nTid och plats\nBarnens Å-hus\, Walmstedska gården\, Sysslomansgatan 1\, Uppsala\n11\, 24 och 25 februari kl. 11:00-11:30\n\nPris\n50 kr per person (barn och vuxna) betalas i dörren innan föreställningen\, Swish eller kontant\n\nArrangör\nMarielunds dockteater\nwww.dockteatern.se\n\nKontakt\nJekaterina Pertoft\ntel: 073 61 61 350\nkatja@pertoft.com\n\n\nBild från Marielunds dockteater\n 0SHARESDela eventet
URL:https://arkiv.barniuppsala.se/event/dockteater-pa-barnens-hus/2018-02-11/
LOCATION:Walmstedtska gården Å-huset\, Sysslomansgatan 1\, Uppsala\, Sverige
CATEGORIES:Barn,Sagostund – barn,Teater,Teater och Bio
ATTACH;FMTTYPE=image/jpeg:https://arkiv.barniuppsala.se/wp-content/uploads/2017/12/Myra10-redigerat.jpeg
ORGANIZER;CN="Marielunds%20dockteater":MAILTO:katja@pertoft.com
GEO:59.8592443;17.6323505
X-APPLE-STRUCTURED-LOCATION;VALUE=URI;X-ADDRESS=Walmstedtska gården Å-huset Sysslomansgatan 1 Uppsala Sverige;X-APPLE-RADIUS=500;X-TITLE=Sysslomansgatan 1:geo:17.6323505,59.8592443
END:VEVENT
END:VCALENDAR