BEGIN:VCALENDAR
VERSION:2.0
PRODID:-//Arkiv för Barn i Uppsala - ECPv5.1.6//NONSGML v1.0//EN
CALSCALE:GREGORIAN
METHOD:PUBLISH
X-WR-CALNAME:Arkiv för Barn i Uppsala
X-ORIGINAL-URL:https://arkiv.barniuppsala.se
X-WR-CALDESC:Händelser för Arkiv för Barn i Uppsala
BEGIN:VTIMEZONE
TZID:Europe/Stockholm
BEGIN:DAYLIGHT
TZOFFSETFROM:+0100
TZOFFSETTO:+0200
TZNAME:CEST
DTSTART:20170326T010000
END:DAYLIGHT
BEGIN:STANDARD
TZOFFSETFROM:+0200
TZOFFSETTO:+0100
TZNAME:CET
DTSTART:20171029T010000
END:STANDARD
END:VTIMEZONE
BEGIN:VEVENT
DTSTART;TZID=Europe/Stockholm:20170325T140000
DTEND;TZID=Europe/Stockholm:20170322T170000
DTSTAMP:20260420T075221
CREATED:20170322T133810Z
LAST-MODIFIED:20170322T133810Z
UID:11922-1490450400-1490202000@arkiv.barniuppsala.se
SUMMARY:Dockteater - Petter och hans fyra getter
DESCRIPTION:Dockteater  med Teater Tummeliten – Petter och hans fyra getter.\nStadsbiblioteket lördag 25 mars kl 14. För barn 3-6 år. \nBoka/hämta gratisbiljetter på bibblan. \nI sin stuga bodde Petter med en katt och fyra getter. Hela dagen måste Petter valla sina fyra getter.\nRöd och Blå och Gul och Vit sprang i skogen hit och dit. Mitt i skogen i en sten\, bodde trollet Ludenben. \nPetter och hans fyra getter från 1951 är skriven och illustrerad av Einar Norelius. \nBilden är hämtad från teatertummeliten.se.  \nLäs mer om Teater Tummeliten här. \n0SHARESDela eventet
URL:https://arkiv.barniuppsala.se/event/dockteater-petter-och-hans-fyra-getter/
LOCATION:Stadsbiblioteket\, Svartbäcksgatan 17\, Uppsala\, 753 75 \, Sverige
CATEGORIES:Teater
ATTACH;FMTTYPE=image/jpeg:https://arkiv.barniuppsala.se/wp-content/uploads/2017/03/petter_getter_teatertummeliten.se_.jpg
ORGANIZER;CN="Bibliotek%20Uppsala":MAILTO:kundtjanst@bibliotekuppsala.se
GEO:59.8606206;17.6353278
X-APPLE-STRUCTURED-LOCATION;VALUE=URI;X-ADDRESS=Stadsbiblioteket Svartbäcksgatan 17 Uppsala 753 75  Sverige;X-APPLE-RADIUS=500;X-TITLE=Svartbäcksgatan 17:geo:17.6353278,59.8606206
END:VEVENT
END:VCALENDAR