BEGIN:VCALENDAR
VERSION:2.0
PRODID:-//Arkiv för Barn i Uppsala - ECPv5.1.6//NONSGML v1.0//EN
CALSCALE:GREGORIAN
METHOD:PUBLISH
X-WR-CALNAME:Arkiv för Barn i Uppsala
X-ORIGINAL-URL:https://arkiv.barniuppsala.se
X-WR-CALDESC:Händelser för Arkiv för Barn i Uppsala
BEGIN:VTIMEZONE
TZID:Europe/Stockholm
BEGIN:DAYLIGHT
TZOFFSETFROM:+0100
TZOFFSETTO:+0200
TZNAME:CEST
DTSTART:20180325T010000
END:DAYLIGHT
BEGIN:STANDARD
TZOFFSETFROM:+0200
TZOFFSETTO:+0100
TZNAME:CET
DTSTART:20181028T010000
END:STANDARD
END:VTIMEZONE
BEGIN:VEVENT
DTSTART;TZID=Europe/Stockholm:20181101T080000
DTEND;TZID=Europe/Stockholm:20181101T170000
DTSTAMP:20260420T065002
CREATED:20181023T111034Z
LAST-MODIFIED:20181023T111034Z
UID:24953-1541059200-1541091600@arkiv.barniuppsala.se
SUMMARY:Dockteater: Vägen till Bolero på Slottsbiografen
DESCRIPTION:Dockteater: Vägen till Bolero på Slottsbiografen\nFri teatergruppen Sesam kommer till Uppsala och till Slottsbiografen för att uppträda med dockteatern Vägen till Bolero. \nPå en liten teater repeterar en liten orkester ett stort stycke musik. Dirigenten (på bild) får arbeta hårt för att få ihop musikerna. Det är även problem med regissören Ingmar Bergman som lägger sig i. Alla olika instrument prövas – så det kommer bli en pedagogisk\, musikalisk och kul resa! \nAlla musikerna har olika förutsättningar liksom olika instrument\, men de har också något gemensamt\, nämligen att framföra Maurice Ravels klassiska stycke Bolero. Men hur skall det gå för den lilla strävsamma orkestern när särintressen och allmänmänskliga problem hotar att splittra gruppen? Kommer cellisten att vara frisk till premiären? Vad är det som händer med fagottspelaren under repetitionerna och stråkarna\, kan de samsas över ordningen som den redan pressade dirigenten vill ha? \nIdag sker de flesta barns möte med den klassiska musiken genom film eller tv-spel där musiken skapar en bakgrund eller fond för ett annat medium. Med föreställningen “Vägen till Bolero” vill Teater Sesam genom en lekfull presentation avdramatisera mötet med den klassiska musiken. \nTeater Sesam vill ge barn möjlighet att komma i kontakt med symfoniska instrument\, både visuellt och musikaliskt\, samt ett tillfälle för barnen att fascineras över den magiska värld som en orkester kan skapa. \nPlats: Slottsbiografen\nDatum: 1 november\, 2 november\, 3 november 2018\nTid: 1 november 15:00-16:00\, 2 november 16:00-17:00\, 3 november 16:00-17:00\nPris: Gratis\, men anmälan till biljett krävs\nFöreställningens längd: Cirka en timme\nRekommenderad ålder: 3-103 år \n  \n\nBesök gärna länkarna nedan (externa länkar öppnas i nytt fönster/flik).\nTeater Sesam | Kommande teatrar \nFoto: Teater Sesam \n0SHARESDela eventet
URL:https://arkiv.barniuppsala.se/event/dockteater-vagen-till-bolero-pa-slottsbiografen/2018-11-01/
LOCATION:Slottsbiografen\, Nedre Slottsgatan 6\, Uppsala\, 753 09\, Sverige
CATEGORIES:Barn,Bergman 100 år (2018),Höstlov,Teater,Teater och Bio
ATTACH;FMTTYPE=image/jpeg:https://arkiv.barniuppsala.se/wp-content/uploads/2018/10/Vägen-till-Bolero-e1539782674982.jpg
END:VEVENT
END:VCALENDAR