BEGIN:VCALENDAR
VERSION:2.0
PRODID:-//Arkiv för Barn i Uppsala - ECPv5.1.6//NONSGML v1.0//EN
CALSCALE:GREGORIAN
METHOD:PUBLISH
X-WR-CALNAME:Arkiv för Barn i Uppsala
X-ORIGINAL-URL:https://arkiv.barniuppsala.se
X-WR-CALDESC:Händelser för Arkiv för Barn i Uppsala
BEGIN:VTIMEZONE
TZID:Europe/Stockholm
BEGIN:DAYLIGHT
TZOFFSETFROM:+0100
TZOFFSETTO:+0200
TZNAME:CEST
DTSTART:20150329T010000
END:DAYLIGHT
BEGIN:STANDARD
TZOFFSETFROM:+0200
TZOFFSETTO:+0100
TZNAME:CET
DTSTART:20151025T010000
END:STANDARD
END:VTIMEZONE
BEGIN:VEVENT
DTSTART;TZID=Europe/Stockholm:20151219T110000
DTEND;TZID=Europe/Stockholm:20151219T150000
DTSTAMP:20260420T154443
CREATED:20150908T114152Z
LAST-MODIFIED:20151107T183451Z
UID:3662-1450522800-1450537200@arkiv.barniuppsala.se
SUMMARY:Drop-in-atelje
DESCRIPTION:Kreativt skapande med olika material. Varje lördag mellan 11 och 15. \n0SHARESDela eventet
URL:https://arkiv.barniuppsala.se/event/drop-in-atelje-15/
LOCATION:Konsthall Märsta\, Kulturtorget 7\, Mästa\, 19530
CATEGORIES:Kunskap och Lärande,Lärande lek
ATTACH;FMTTYPE=image/jpeg:https://arkiv.barniuppsala.se/wp-content/uploads/2014/12/ped-skulptur-e1419848358177.jpg
GEO:40.533145;-75.737149
X-APPLE-STRUCTURED-LOCATION;VALUE=URI;X-ADDRESS=Konsthall Märsta Kulturtorget 7 Mästa 19530;X-APPLE-RADIUS=500;X-TITLE=Kulturtorget 7:geo:-75.737149,40.533145
END:VEVENT
END:VCALENDAR