BEGIN:VCALENDAR
VERSION:2.0
PRODID:-//Arkiv för Barn i Uppsala - ECPv5.1.6//NONSGML v1.0//EN
CALSCALE:GREGORIAN
METHOD:PUBLISH
X-WR-CALNAME:Arkiv för Barn i Uppsala
X-ORIGINAL-URL:https://arkiv.barniuppsala.se
X-WR-CALDESC:Händelser för Arkiv för Barn i Uppsala
BEGIN:VTIMEZONE
TZID:Europe/Stockholm
BEGIN:DAYLIGHT
TZOFFSETFROM:+0100
TZOFFSETTO:+0200
TZNAME:CEST
DTSTART:20160327T010000
END:DAYLIGHT
BEGIN:STANDARD
TZOFFSETFROM:+0200
TZOFFSETTO:+0100
TZNAME:CET
DTSTART:20161030T010000
END:STANDARD
END:VTIMEZONE
BEGIN:VEVENT
DTSTART;TZID=Europe/Stockholm:20160313T140000
DTEND;TZID=Europe/Stockholm:20160309T000000
DTSTAMP:20260420T155742
CREATED:20160308T093047Z
LAST-MODIFIED:20160309T123140Z
UID:6336-1457877600-1457481600@arkiv.barniuppsala.se
SUMMARY:Dunderklumpen
DESCRIPTION:Dunderklumpen är en klassisk barnfilm av Beppe Wolgers och animatören Per Åhlin. Filmen blandar animation och spelfilm\, saga och realism\, vemod och humor. En tidlös barnfilmsklassiker med oförglömlig musik av Toots Thielemans. \nHandling: En midsommarkväll känner sig Dunderklumpen ensam och ger sig iväg för att hitta vänner. Hemma hos Jens blåser han liv i några leksaker och tillsammans ger de sig iväg på skattkisteäventyr\, Jens tar upp jakten på dem med sin far Beppe ute i Jämtlandsfjällen.\nDet här är en unik filmsaga där tecknade figurer möter verkligheten i en värld där naturmystik\, magi och lycka undersöks med nyfikenhet. \nFyrisbiografen söndag-måndag 13-14 mars. (Tid och pris uppdateras senare.) \nBild: flickr.com. \n  \n0SHARESDela eventet
URL:https://arkiv.barniuppsala.se/event/dunderklumpen/2016-03-13/
LOCATION:Fyrisbiografen\, S:t Olofsgatan 10\, Uppsala\, 75312\, Sverige
CATEGORIES:Bio
ATTACH;FMTTYPE=image/jpeg:https://arkiv.barniuppsala.se/wp-content/uploads/2016/03/dunderklumpen.jpg
GEO:59.8579889;17.6286964
X-APPLE-STRUCTURED-LOCATION;VALUE=URI;X-ADDRESS=Fyrisbiografen S:t Olofsgatan 10 Uppsala 75312 Sverige;X-APPLE-RADIUS=500;X-TITLE=S:t Olofsgatan 10:geo:17.6286964,59.8579889
END:VEVENT
END:VCALENDAR