BEGIN:VCALENDAR
VERSION:2.0
PRODID:-//Arkiv för Barn i Uppsala - ECPv5.1.6//NONSGML v1.0//EN
CALSCALE:GREGORIAN
METHOD:PUBLISH
X-WR-CALNAME:Arkiv för Barn i Uppsala
X-ORIGINAL-URL:https://arkiv.barniuppsala.se
X-WR-CALDESC:Händelser för Arkiv för Barn i Uppsala
BEGIN:VTIMEZONE
TZID:Europe/Stockholm
BEGIN:DAYLIGHT
TZOFFSETFROM:+0100
TZOFFSETTO:+0200
TZNAME:CEST
DTSTART:20200329T010000
END:DAYLIGHT
BEGIN:STANDARD
TZOFFSETFROM:+0200
TZOFFSETTO:+0100
TZNAME:CET
DTSTART:20201025T010000
END:STANDARD
END:VTIMEZONE
BEGIN:VEVENT
DTSTART;TZID=Europe/Stockholm:20200225T174500
DTEND;TZID=Europe/Stockholm:20200225T195700
DTSTAMP:20260420T172425
CREATED:20200224T174404Z
LAST-MODIFIED:20200224T174404Z
UID:59652-1582652700-1582660620@arkiv.barniuppsala.se
SUMMARY:Emma av Jane Austen | Fyrisbiografen
DESCRIPTION:Emma av Jane Austen | Fyrisbiografen\nEmma Woodhouse är en snygg\, smart och rik – men rastlös – alfakvinna som saknar rivaler i sin hemstad där det inte händer så mycket. För att liva upp tillvaron blir hon mentor åt tonåringen Harriet Smith och försöker hjälpa henne i kärlekslivet samtidigt som hon själv måste navigera mellan missmatchade dejter och romantiska felsteg för att hitta kärleken. \nEmma är en smart och sprakande satir om sociala klasser och det jobbiga med att växa upp.\nEn film av Autumn de Wilde. \nDatum:\nTisdagen den 25 februari 2020\nTorsdagen den 27 februari 2020\nTid: Tisdagen kl 17:45\, torsdagen kl 20:15\nLängd: 2 timmar 12 minuter\nPlats: Fyrisbiografen salong 2\nÅlder: Barntillåten\nSpråk: Engelska\,\nTextning: Svenska\nPris:  90 – 110 kr\nBiljett: Fyrisbiografen (extern länk öppnas i nytt fönster/flik)\n\n\n\n \n\nJane Austens älskade komedi om att hitta sin jämlike och att förtjäna ett lyckligt slut återskapas i denna nya filmatisering av Emma.\n\nMedverkande: Anya Taylor-Joy\, Johnny Flynn\, Bill Nighy\, Mia Goth\, Miranda Hart\, Josh O’Connor\, Callum Turner\, Rupert Graves\, Gemma Whelan\, Amber Anderson\, Tanya Reynolds\, och Connor Swindells.\n\n  \n\nJane Austen\nJane Austen började skriva redan i unga år – romanen Kärlek och vänskap (Love and Freindship [avsiktligt felstavat av Austen]) skrev hon så tidigt som 1790. Åren 1795–1798 skrev hon de första versionerna av tre av sina romaner. Austen publicerade dock sin första roman först 1811: Förnuft och känsla (Sense and Sensibility). \nDen kom att följas av ytterligare tre romaner under hennes livstid: Stolthet och fördom (Pride and Prejudice\, 1813)\, Mansfield Park (1814) och Emma (1816). Hon nådde vissa framgångar som publicerad författare. \nSamtliga hennes böcker utspelar sig i lantlig miljö\, inom den engelska aristokratin\, och hon hade en fantastisk förmåga att beskriva personer och olika situationer i vardagslivet med förfinad ironi. I hennes berättelser finns ofta en underton av kritik mot aristokratins sociala konventioner och ritualer\, som hämmar romanfigurerna (framförallt kvinnorna) i deras försök att finna kärlek och lycka. \nAusten är begravd i katedralen i Winchester. \n\nBesök gärna följande lämkar nedan (extern länk öppnas i nytt fönster/flik)\nKommande event inom bio/teater | Fyrisbiografen | Jane Austen \nBild: Från arrangör \n0SHARESDela eventet
URL:https://arkiv.barniuppsala.se/event/emma-av-jane-austen-fyrisbiografen/2020-02-25/
LOCATION:Fyrisbiografen\, S:t Olofsgatan 10\, Uppsala\, 75312\, Sverige
CATEGORIES:Anmälan / Kostnad,Barn,Biljett på plats,Bio,Familj,Förköp / Bokning,Främre Luthagen-Fjärdingen,Geografisk kategori,Teater och Bio,Ungdom,? Uppsala
ATTACH;FMTTYPE=image/jpeg:https://arkiv.barniuppsala.se/wp-content/uploads/2020/02/01-3.jpg
GEO:59.8579889;17.6286964
X-APPLE-STRUCTURED-LOCATION;VALUE=URI;X-ADDRESS=Fyrisbiografen S:t Olofsgatan 10 Uppsala 75312 Sverige;X-APPLE-RADIUS=500;X-TITLE=S:t Olofsgatan 10:geo:17.6286964,59.8579889
END:VEVENT
END:VCALENDAR