BEGIN:VCALENDAR
VERSION:2.0
PRODID:-//Arkiv för Barn i Uppsala - ECPv5.1.6//NONSGML v1.0//EN
CALSCALE:GREGORIAN
METHOD:PUBLISH
X-WR-CALNAME:Arkiv för Barn i Uppsala
X-ORIGINAL-URL:https://arkiv.barniuppsala.se
X-WR-CALDESC:Händelser för Arkiv för Barn i Uppsala
BEGIN:VTIMEZONE
TZID:Europe/Stockholm
BEGIN:DAYLIGHT
TZOFFSETFROM:+0100
TZOFFSETTO:+0200
TZNAME:CEST
DTSTART:20190331T010000
END:DAYLIGHT
BEGIN:STANDARD
TZOFFSETFROM:+0200
TZOFFSETTO:+0100
TZNAME:CET
DTSTART:20191027T010000
END:STANDARD
END:VTIMEZONE
BEGIN:VEVENT
DTSTART;TZID=Europe/Stockholm:20191102T130000
DTEND;TZID=Europe/Stockholm:20191102T134000
DTSTAMP:20260423T193631
CREATED:20190830T062548Z
LAST-MODIFIED:20190928T221955Z
UID:48787-1572699600-1572702000@arkiv.barniuppsala.se
SUMMARY:UTSÅLT - Ett ord är ett ord - Teater Pero | Den Lilla teatern (4 år+)
DESCRIPTION:Ett ord är ett ord – Teater Pero | Den Lilla teatern (4 år+)\nEtt ord är ett ord – En lekfull komedi om kraften i att då och då vara uttråkad.\nVad ska man göra när batteriet laddar ur och skärmen slocknar!? Man kan väl inte bara sitta och göra ingenting!\nI den här berättelsen dröjer det inte länge förrän fantasin sätter fart och man vill leka…leka affär! Plötsligt bubblar kreativiteten igång och allt blir möjligt. Här öppnas en ordaffär i vilken det säljs allehanda ord; långa och korta ord\, ord som rimmar\, snälla och arga ord och ord som lyser som solen.\n\n\nDatum: Lördagen den 2 november 2019\nTid: 13.00\nLängd: 40 minuter\nPlats: Den Lilla Teatern\, St:Persgatan 22\, Uppsala\nÅlder: 4 år+\nPris: Fri entré.\nBiljettsläpp: Måndagen den 2 september kl 13.00\nBiljettbokning:  \nDen Lilla Teatern  (extern länk öppnas i nytt fönster/flik)\nBoka bara det antal ni vet kommer.\nRing på 018/131556 för att avboka på grund av sjukdom eller annat förhinder. \n\n\nEventet ingår i Den Lilla Teaterns 30 års jubileum. \n\n\n\n \n\nBesök gärna följande länkar nedan (extern länk öppnas i nytt fönster/flik)\nDen Lilla Teatern | Teater Pero | Kommande event inom teater | Kommande event hos Den Lilla Teatern \nFoto: Jonas Jörneberg \n0SHARESDela eventet
URL:https://arkiv.barniuppsala.se/event/ett-ord-ar-ett-ord-pero-lilla-teatern/
LOCATION:Den Lilla Teatern\, S:t Persgatan 22\, Uppsala\, 753 29
CATEGORIES:Barn,Den lilla teatern 30 år (2019),Höstlov,Jubileum,Teater
ATTACH;FMTTYPE=image/jpeg:https://arkiv.barniuppsala.se/wp-content/uploads/2019/08/Ett-ord-ar-ett-ord-4-e1567063399401.jpg
GEO:59.8618076;17.6424759
X-APPLE-STRUCTURED-LOCATION;VALUE=URI;X-ADDRESS=Den Lilla Teatern S:t Persgatan 22 Uppsala 753 29;X-APPLE-RADIUS=500;X-TITLE=S:t Persgatan 22:geo:17.6424759,59.8618076
END:VEVENT
END:VCALENDAR