BEGIN:VCALENDAR
VERSION:2.0
PRODID:-//Arkiv för Barn i Uppsala - ECPv5.1.6//NONSGML v1.0//EN
CALSCALE:GREGORIAN
METHOD:PUBLISH
X-WR-CALNAME:Arkiv för Barn i Uppsala
X-ORIGINAL-URL:https://arkiv.barniuppsala.se
X-WR-CALDESC:Händelser för Arkiv för Barn i Uppsala
BEGIN:VTIMEZONE
TZID:Europe/Stockholm
BEGIN:DAYLIGHT
TZOFFSETFROM:+0100
TZOFFSETTO:+0200
TZNAME:CEST
DTSTART:20160327T010000
END:DAYLIGHT
BEGIN:STANDARD
TZOFFSETFROM:+0200
TZOFFSETTO:+0100
TZNAME:CET
DTSTART:20161030T010000
END:STANDARD
END:VTIMEZONE
BEGIN:VEVENT
DTSTART;TZID=Europe/Stockholm:20160416T140000
DTEND;TZID=Europe/Stockholm:20160416T170000
DTSTAMP:20260419T232307
CREATED:20160318T130644Z
LAST-MODIFIED:20160318T130644Z
UID:6490-1460815200-1460826000@arkiv.barniuppsala.se
SUMMARY:Fabriken lever upp
DESCRIPTION:Maskinerna i den gamla fabriken startas upp och används på nytt. \n0SHARESDela eventet
URL:https://arkiv.barniuppsala.se/event/fabriken-lever-upp/2016-04-16/
LOCATION:Pythagoras Industrimuseum\, Verkstadsgatan 6\, Norrtälje\, Sverige
CATEGORIES:Motor
ATTACH;FMTTYPE=image/jpeg:https://arkiv.barniuppsala.se/wp-content/uploads/2015/09/Pythagoras-250-200.jpg
GEO:59.7552396;18.699317
X-APPLE-STRUCTURED-LOCATION;VALUE=URI;X-ADDRESS=Pythagoras Industrimuseum Verkstadsgatan 6 Norrtälje Sverige;X-APPLE-RADIUS=500;X-TITLE=Verkstadsgatan 6:geo:18.699317,59.7552396
END:VEVENT
END:VCALENDAR