BEGIN:VCALENDAR
VERSION:2.0
PRODID:-//Arkiv för Barn i Uppsala - ECPv5.1.6//NONSGML v1.0//EN
CALSCALE:GREGORIAN
METHOD:PUBLISH
X-WR-CALNAME:Arkiv för Barn i Uppsala
X-ORIGINAL-URL:https://arkiv.barniuppsala.se
X-WR-CALDESC:Händelser för Arkiv för Barn i Uppsala
BEGIN:VTIMEZONE
TZID:Europe/Stockholm
BEGIN:DAYLIGHT
TZOFFSETFROM:+0100
TZOFFSETTO:+0200
TZNAME:CEST
DTSTART:20170326T010000
END:DAYLIGHT
BEGIN:STANDARD
TZOFFSETFROM:+0200
TZOFFSETTO:+0100
TZNAME:CET
DTSTART:20171029T010000
END:STANDARD
END:VTIMEZONE
BEGIN:VEVENT
DTSTART;TZID=Europe/Stockholm:20170819T110000
DTEND;TZID=Europe/Stockholm:20170819T170000
DTSTAMP:20260420T144749
CREATED:20170814T092415Z
LAST-MODIFIED:20170814T092415Z
UID:14950-1503140400-1503162000@arkiv.barniuppsala.se
SUMMARY:Hästhoppning och Familjedag på Stigsbergs Gård i Bålsta
DESCRIPTION:Hästhoppning och Familjedag på Stigsbergs Gård\nLördag 19 augusti 10.00-16.00\nTa med hela familjen och titta på hästhoppning på Stigsbergs Gård.\nServering med korv\, hamburgare\, godis\, läsk\, kaffe och hembakat finns. \nParkens gräsmattor är öppna för publik & picknick-besökare. \nLotteri med fina priser från butiken.\nHästsportbutiken är öppen mellan klockan 10.00-16.00. \nInformation om evenemanget finner du på Stigbergs Gårds Facebooksida\, här. \n  \nBild från pixabay.com \n0SHARESDela eventet
URL:https://arkiv.barniuppsala.se/event/familjedag-diplomhoppning-stigsbergs-gard/
LOCATION:Stigbergs Gård Bålsta\, Hjälstaleden 25\, Bålsta\, 746 93\, Sverige
CATEGORIES:Djur,Utomhusaktivitet
ATTACH;FMTTYPE=image/jpeg:https://arkiv.barniuppsala.se/wp-content/uploads/2017/08/horse-jumping-450549_960_720.jpg
ORGANIZER;CN="Stigbergs%20G%C3%A5rd%20B%C3%A5lsta":MAILTO:info@stigsbergsgard.se
GEO:59.6500525;17.4553959
X-APPLE-STRUCTURED-LOCATION;VALUE=URI;X-ADDRESS=Stigbergs Gård Bålsta Hjälstaleden 25 Bålsta 746 93 Sverige;X-APPLE-RADIUS=500;X-TITLE=Hjälstaleden 25:geo:17.4553959,59.6500525
END:VEVENT
END:VCALENDAR