BEGIN:VCALENDAR
VERSION:2.0
PRODID:-//Arkiv för Barn i Uppsala - ECPv5.1.6//NONSGML v1.0//EN
CALSCALE:GREGORIAN
METHOD:PUBLISH
X-WR-CALNAME:Arkiv för Barn i Uppsala
X-ORIGINAL-URL:https://arkiv.barniuppsala.se
X-WR-CALDESC:Händelser för Arkiv för Barn i Uppsala
BEGIN:VTIMEZONE
TZID:Europe/Stockholm
BEGIN:DAYLIGHT
TZOFFSETFROM:+0100
TZOFFSETTO:+0200
TZNAME:CEST
DTSTART:20160327T010000
END:DAYLIGHT
BEGIN:STANDARD
TZOFFSETFROM:+0200
TZOFFSETTO:+0100
TZNAME:CET
DTSTART:20161030T010000
END:STANDARD
END:VTIMEZONE
BEGIN:VEVENT
DTSTART;TZID=Europe/Stockholm:20161119T160000
DTEND;TZID=Europe/Stockholm:20161119T180000
DTSTAMP:20260420T185420
CREATED:20161116T102731Z
LAST-MODIFIED:20161118T103937Z
UID:9313-1479571200-1479578400@arkiv.barniuppsala.se
SUMMARY:Familjefotografering i Linnéabassängen.
DESCRIPTION:På lördag den 19 november erbjudes familjefotografering i Linnéabassängen. Hela familjen är välkommen. \nLisbet Spörndly är fotograf  och tar 300 kr per bild (500 kr för 2). Vill du se några av Lisbets bilder\, gå in på Linnea simskolas hemsida. \nInget köptvång. Anmälan görs till ludmilla@linneassimskola.se Först till kvarn gäller! \n0SHARESDela eventet
URL:https://arkiv.barniuppsala.se/event/familjefotografering-i-linneabassangen/
LOCATION:Linnea Simskola\, Märstagatan 4\, Uppsala\, Sverige
CATEGORIES:Bad
ATTACH;FMTTYPE=image/jpeg:https://arkiv.barniuppsala.se/wp-content/uploads/2016/11/simskolan.jpg
GEO:59.8546534;17.6605101
X-APPLE-STRUCTURED-LOCATION;VALUE=URI;X-ADDRESS=Linnea Simskola Märstagatan 4 Uppsala Sverige;X-APPLE-RADIUS=500;X-TITLE=Märstagatan 4:geo:17.6605101,59.8546534
END:VEVENT
END:VCALENDAR