BEGIN:VCALENDAR
VERSION:2.0
PRODID:-//Arkiv för Barn i Uppsala - ECPv5.1.6//NONSGML v1.0//EN
CALSCALE:GREGORIAN
METHOD:PUBLISH
X-WR-CALNAME:Arkiv för Barn i Uppsala
X-ORIGINAL-URL:https://arkiv.barniuppsala.se
X-WR-CALDESC:Händelser för Arkiv för Barn i Uppsala
BEGIN:VTIMEZONE
TZID:Europe/Stockholm
BEGIN:DAYLIGHT
TZOFFSETFROM:+0100
TZOFFSETTO:+0200
TZNAME:CEST
DTSTART:20180325T010000
END:DAYLIGHT
BEGIN:STANDARD
TZOFFSETFROM:+0200
TZOFFSETTO:+0100
TZNAME:CET
DTSTART:20181028T010000
END:STANDARD
END:VTIMEZONE
BEGIN:VEVENT
DTSTART;TZID=Europe/Stockholm:20180210T110000
DTEND;TZID=Europe/Stockholm:20180210T150000
DTSTAMP:20260420T154758
CREATED:20180202T101224Z
LAST-MODIFIED:20180202T101400Z
UID:17982-1518260400-1518274800@arkiv.barniuppsala.se
SUMMARY:Familjelördag: Skapa Alla hjärtans dag-kort
DESCRIPTION:Familjelördag: Skapa Alla hjärtans dag-kort\n\n\nFamiljelördag: Sävjabiblioteket dukar fram material till ett pyssel i kärlekens tecken! \nYngre barn i vuxens sällskap. \nPlats: Sävjabiblioteket \nNär: 10 februari \nTid: Klockan 11.00 – 15.00 \n\n\nAlla välkomna! \nFör mer information om eventet klicka här:http://tinyurl.com/yapxbw3m \nBild från: Pixabay.com \n0SHARESDela eventet
URL:https://arkiv.barniuppsala.se/event/familjelordag-skapa-alla-hjartans-dag-kort/
LOCATION:Sävjabiblioteket\, Västgötaresan\, Uppsala\, 757 54\, Sverige
CATEGORIES:Barn,Bibliotek,Kunskap och Lärande,Prova på,Ungdom
ATTACH;FMTTYPE=image/jpeg:https://arkiv.barniuppsala.se/wp-content/uploads/2018/02/Alla-hjärtans-dag-e1517566423320.jpg
GEO:59.8085971;17.7022024
X-APPLE-STRUCTURED-LOCATION;VALUE=URI;X-ADDRESS=Sävjabiblioteket Västgötaresan Uppsala 757 54 Sverige;X-APPLE-RADIUS=500;X-TITLE=Västgötaresan:geo:17.7022024,59.8085971
END:VEVENT
END:VCALENDAR