BEGIN:VCALENDAR
VERSION:2.0
PRODID:-//Arkiv för Barn i Uppsala - ECPv5.1.6//NONSGML v1.0//EN
CALSCALE:GREGORIAN
METHOD:PUBLISH
X-WR-CALNAME:Arkiv för Barn i Uppsala
X-ORIGINAL-URL:https://arkiv.barniuppsala.se
X-WR-CALDESC:Händelser för Arkiv för Barn i Uppsala
BEGIN:VTIMEZONE
TZID:Europe/Stockholm
BEGIN:DAYLIGHT
TZOFFSETFROM:+0100
TZOFFSETTO:+0200
TZNAME:CEST
DTSTART:20160327T010000
END:DAYLIGHT
BEGIN:STANDARD
TZOFFSETFROM:+0200
TZOFFSETTO:+0100
TZNAME:CET
DTSTART:20161030T010000
END:STANDARD
END:VTIMEZONE
BEGIN:VEVENT
DTSTART;TZID=Europe/Stockholm:20161029T111500
DTEND;TZID=Europe/Stockholm:20161029T111500
DTSTAMP:20260421T162420
CREATED:20161017T094219Z
LAST-MODIFIED:20161026T084111Z
UID:8717-1477739700-1477739700@arkiv.barniuppsala.se
SUMMARY:Familjeyoga - rörelser utifrån berättelser eller musik
DESCRIPTION:Familjeyoga – rörelser utifrån en berättelser eller musik med instruktören Johanna Vestberg\, i Temaverkstaden på Gottsundabiblioteket. \nLördagarna 29 oktober och 12 november\, kl 10.15. Boka och hämta gratisbiljetter på biblioteket. \nPassen håller på ca 45 minuter och avslutas med en form av guidad avslappning eller massagesaga. \nBild: pixabay.com. \n  \n0SHARESDela eventet
URL:https://arkiv.barniuppsala.se/event/familjeyoga/2016-10-29/
LOCATION:Gottsundabiblioteket\, Valthornsvägen 11\, Uppsala\, 756 50\, Sverige
CATEGORIES:Bibliotek,Höstlov,Sagostund – barn
ATTACH;FMTTYPE=image/jpeg:https://arkiv.barniuppsala.se/wp-content/uploads/2016/10/familj_streckgubbar.jpg
ORGANIZER;CN="Bibliotek%20Uppsala":MAILTO:kundtjanst@bibliotekuppsala.se
GEO:59.8093409;17.6295555
X-APPLE-STRUCTURED-LOCATION;VALUE=URI;X-ADDRESS=Gottsundabiblioteket Valthornsvägen 11 Uppsala 756 50 Sverige;X-APPLE-RADIUS=500;X-TITLE=Valthornsvägen 11:geo:17.6295555,59.8093409
END:VEVENT
END:VCALENDAR