BEGIN:VCALENDAR
VERSION:2.0
PRODID:-//Arkiv för Barn i Uppsala - ECPv5.1.6//NONSGML v1.0//EN
CALSCALE:GREGORIAN
METHOD:PUBLISH
X-WR-CALNAME:Arkiv för Barn i Uppsala
X-ORIGINAL-URL:https://arkiv.barniuppsala.se
X-WR-CALDESC:Händelser för Arkiv för Barn i Uppsala
BEGIN:VTIMEZONE
TZID:Europe/Stockholm
BEGIN:DAYLIGHT
TZOFFSETFROM:+0100
TZOFFSETTO:+0200
TZNAME:CEST
DTSTART:20190331T010000
END:DAYLIGHT
BEGIN:STANDARD
TZOFFSETFROM:+0200
TZOFFSETTO:+0100
TZNAME:CET
DTSTART:20191027T010000
END:STANDARD
END:VTIMEZONE
BEGIN:VEVENT
DTSTART;TZID=Europe/Stockholm:20191115T140000
DTEND;TZID=Europe/Stockholm:20191115T140000
DTSTAMP:20260421T193408
CREATED:20191113T151513Z
LAST-MODIFIED:20191113T151513Z
UID:51745-1573826400-1573826400@arkiv.barniuppsala.se
SUMMARY:Fängslade författares dag på Sävjabiblioteket
DESCRIPTION:Fängslade författares dag på Sävjabiblioteket\nPoeten\, skribenten och magasinredaktören Sahar Mousa besöker Sävjabiblioteket och läser texter av fängslade författare. \n\n\n\nDatum: Fredagen den 15 november 2019\nTid: 14:00\nPlats: Sävjabiblioteket\nÅlder: Ej angivet\nPris: Fri Entré\nAnmälan: Ingen anmälan men det är begränsat antal platser \n\nOm Fängslade författares dag\nVärlden över sitter hundratals författare\, journalister och bloggare inspärrade. De har fängslats för brottet att sätta ord på människors tankar och drömmar. Den 15 november varje år påminner föreningen PEN om kampen för hotade författare och för det fria ordet. På biblioteken uppmärksammans dagen tillsammans med Uppsala kommun\, ICORN\, Svenska PEN\, Uppsala författarsällskap och Litteraturcentrum. \n\nBesök gärna länkarna nedan (externa länkar öppnas i ett nytt fönster/flik).\nFörfattares dag på Sävjabiblioteket | Kommande event inom föreläsning \nBild: Pixabay \n\n 0SHARESDela eventet
URL:https://arkiv.barniuppsala.se/event/fangslade-forfattares-dag-pa-savjabiblioteket/
LOCATION:Sävjabiblioteket\, Sävja Kulturcentrum\, Västgötaresan 133\, Uppsala\, Uppsala\, 757 54 Uppsala\, Sverige
CATEGORIES:Ålderskategori,Anmälan / Kostnad,Barn,Bibliotek,Familj,Föreläsning och Kurs,Geografisk kategori,Gratis,Ingen föranmälan,Kunskap och Lärande,Litteratur och Poesi,Sävja,Ungdom,? Uppsala
ATTACH;FMTTYPE=image/jpeg:https://arkiv.barniuppsala.se/wp-content/uploads/2019/10/notepad-926618_1280-e1572006849226.jpg
ORGANIZER;CN="S%C3%A4vjabiblioteket":MAILTO:savjabiblioteket@uppsala.se
GEO:59.8107064;17.7022992
X-APPLE-STRUCTURED-LOCATION;VALUE=URI;X-ADDRESS=Sävjabiblioteket Sävja Kulturcentrum Västgötaresan 133 Uppsala Uppsala 757 54 Uppsala Sverige;X-APPLE-RADIUS=500;X-TITLE=Sävja Kulturcentrum\, Västgötaresan 133:geo:17.7022992,59.8107064
END:VEVENT
END:VCALENDAR