BEGIN:VCALENDAR
VERSION:2.0
PRODID:-//Arkiv för Barn i Uppsala - ECPv5.1.6//NONSGML v1.0//EN
CALSCALE:GREGORIAN
METHOD:PUBLISH
X-WR-CALNAME:Arkiv för Barn i Uppsala
X-ORIGINAL-URL:https://arkiv.barniuppsala.se
X-WR-CALDESC:Händelser för Arkiv för Barn i Uppsala
BEGIN:VTIMEZONE
TZID:Europe/Stockholm
BEGIN:DAYLIGHT
TZOFFSETFROM:+0100
TZOFFSETTO:+0200
TZNAME:CEST
DTSTART:20170326T010000
END:DAYLIGHT
BEGIN:STANDARD
TZOFFSETFROM:+0200
TZOFFSETTO:+0100
TZNAME:CET
DTSTART:20171029T010000
END:STANDARD
END:VTIMEZONE
BEGIN:VEVENT
DTSTART;TZID=Europe/Stockholm:20170305T110000
DTEND;TZID=Europe/Stockholm:20170305T133000
DTSTAMP:20260420T142319
CREATED:20170302T083907Z
LAST-MODIFIED:20170302T083907Z
UID:11530-1488711600-1488720600@arkiv.barniuppsala.se
SUMMARY:Fastespektakel
DESCRIPTION:Fastespektakel \n\nGudstjänst med små och stora\, sång av Tonträffarna och Musikverkstan! Lunch med semlor\, maskerad\, spektakelkampen\, musikquiz\, gör en egen karnevalshatt\, pinjata\, brödbord mm. \nHuvudarrangör: Vaksala församling. Område: Uppsala \nPlats: Årstakyrkan \nAdress:Sparrisgatan 9 \n754 46 Uppsala \nPris: Lunch 20 kr barn\, 50 kr vuxen. \n\n 0SHARESDela eventet
URL:https://arkiv.barniuppsala.se/event/fastespektakel/
LOCATION:Årstakyrkan\, Sparrisgatan 9\, Uppsala\, 75446\, Sverige
CATEGORIES:Barn,Sång och Musik,Ungdom
ATTACH;FMTTYPE=image/jpeg:https://arkiv.barniuppsala.se/wp-content/uploads/2016/11/arsta-470x280.jpg
GEO:59.8660391;17.6857328
X-APPLE-STRUCTURED-LOCATION;VALUE=URI;X-ADDRESS=Årstakyrkan Sparrisgatan 9 Uppsala 75446 Sverige;X-APPLE-RADIUS=500;X-TITLE=Sparrisgatan 9:geo:17.6857328,59.8660391
END:VEVENT
END:VCALENDAR