BEGIN:VCALENDAR
VERSION:2.0
PRODID:-//Arkiv för Barn i Uppsala - ECPv5.1.6//NONSGML v1.0//EN
CALSCALE:GREGORIAN
METHOD:PUBLISH
X-WR-CALNAME:Arkiv för Barn i Uppsala
X-ORIGINAL-URL:https://arkiv.barniuppsala.se
X-WR-CALDESC:Händelser för Arkiv för Barn i Uppsala
BEGIN:VTIMEZONE
TZID:Europe/Stockholm
BEGIN:DAYLIGHT
TZOFFSETFROM:+0100
TZOFFSETTO:+0200
TZNAME:CEST
DTSTART:20200329T010000
END:DAYLIGHT
BEGIN:STANDARD
TZOFFSETFROM:+0200
TZOFFSETTO:+0100
TZNAME:CET
DTSTART:20201025T010000
END:STANDARD
END:VTIMEZONE
BEGIN:VEVENT
DTSTART;TZID=Europe/Stockholm:20200209T130000
DTEND;TZID=Europe/Stockholm:20200209T150000
DTSTAMP:20260421T115614
CREATED:20200203T130752Z
LAST-MODIFIED:20200203T130752Z
UID:54776-1581253200-1581260400@arkiv.barniuppsala.se
SUMMARY:Fest- & Bröllopsmässan på Hotel Villa Anna
DESCRIPTION:Fest- & Bröllopsmässan på Hotel Villa Anna\nUnder helgen till Alla Hjärtans dag välkomnar Hotel Villa Anna dig till årets fest- & bröllopsmässa. Det bjuds på en fantastisk utställning av bröllopsfotografer\, bordsdukningar med blommor\, dekorationer och magiskt fina detaljer. Förtrollande sång och möjlighet att lyssna på och boka bröllopssolist. \nTräffa en certifierad pärlspecialist. Utsökta praliner och bröllopstårtor. Få de hetaste tipsen på frisyrer och make\, fest och bröllopskläder. Levande catwalk med klänningar och frisyrer. Vackra dansinstallationer. På plats finns även provning av smycken\, brudkronor\, hårsmycken och ringar. \nDessutom finns fina erbjudanden att ta del av. På plats finns även Sveriges främsta bröllopsmagasin\, Allt om Bröllop. Du kan även boka upp ett datum för bröllopskonsultation med planering inför festen med Villa Annas bröllopskoordinator. Där berättar dem om Villa Annas bröllopspaket. I mötet får du även med dig en liten bröllopsplaneringsbok med tips på vad som är bra att tänka på under planeringen av ett bröllop. \nTidsbokning kan göras direkt på plats. Du kan även slå dig ner i loungen och njuta av söta härligheter\, kaffe eller kanske ett glas Champagne för att lyxa till det. I samband med mässan kommer ni tillsammans med Helga Trefaldighets Kyrka\, enstaka kullerstenar ifrån Villa Anna\, få uppleva en konsert med bröllopsmusik. Missa inte en dag full av inspiration tillsammans med några av de främsta aktörerna inom fest och bröllop. Njut av ett år med upplevelser och skapa en dag med minnen för livet. \nVälkommen! \nDatum: Söndagen den 9 februari 2020\nTid: 13.00-15.00Plats: Hotel Villa AnnaÅlder: Ej angivetPris: Fri entré \nHålltider\n13.00 Fest- & Bröllopsmässan öppnar portarna med vackra toner \n13.00-15.00 Möt fantastiska utställare \n15.00 Bröllopskonsert i Helga Trefaldighets Kyrka \n\nOm Hotel Villa Anna\nVilla Anna är ett personligt hotell i liten skala som präglas av ett varmt bemötande\, hemtrevlig känsla och stora smakupplevelser. Det åtråvärda läget mitt bland historiska byggnader som Domkyrkan\, Uppsala Universitet och Gustavianum är unikt. För den som kliver in i Villa Annas värld för allra första gången är upplevelsen ofta trolsk. Där råder helt enkelt en skön atmosfär som får dig att bromsa in och njuta. \n\nBesök gärna länkarna nedan (externa länkar öppnas i ett nytt fönster/flik).\nFest- & bröllopsmässa | Kommande event inom Mässa\, Konvent & Konferens \nFoto: Hotel Villa Anna \n0SHARESDela eventet
URL:https://arkiv.barniuppsala.se/event/fest-brollopsmassan-pa-hotel-villa-anna/
LOCATION:Hotel Villa Anna\, Odinslund 3\, Uppsala\, 75310\, Sverige
CATEGORIES:Ålderskategori,Anmälan / Kostnad,Familj,För anhöriga,Främre Luthagen-Fjärdingen,Geografisk kategori,Gratis,Konsert,Mässa, Konvent & Konferens,Prova på,Sång och Musik,Utomhusaktivitet,? Uppsala
ATTACH;FMTTYPE=image/jpeg:https://arkiv.barniuppsala.se/wp-content/uploads/2020/01/bg-startsida-5-e1578997064253.jpg
ORGANIZER;CN="Hotel%20Villa%20Anna":MAILTO:info@villaanna.se
END:VEVENT
END:VCALENDAR