BEGIN:VCALENDAR
VERSION:2.0
PRODID:-//Arkiv för Barn i Uppsala - ECPv5.1.6//NONSGML v1.0//EN
CALSCALE:GREGORIAN
METHOD:PUBLISH
X-WR-CALNAME:Arkiv för Barn i Uppsala
X-ORIGINAL-URL:https://arkiv.barniuppsala.se
X-WR-CALDESC:Händelser för Arkiv för Barn i Uppsala
BEGIN:VTIMEZONE
TZID:Europe/Stockholm
BEGIN:DAYLIGHT
TZOFFSETFROM:+0100
TZOFFSETTO:+0200
TZNAME:CEST
DTSTART:20160327T010000
END:DAYLIGHT
BEGIN:STANDARD
TZOFFSETFROM:+0200
TZOFFSETTO:+0100
TZNAME:CET
DTSTART:20161030T010000
END:STANDARD
END:VTIMEZONE
BEGIN:VEVENT
DTSTART;TZID=Europe/Stockholm:20161119T103000
DTEND;TZID=Europe/Stockholm:20161119T123000
DTSTAMP:20260420T215241
CREATED:20161024T090232Z
LAST-MODIFIED:20161118T104814Z
UID:8892-1479551400-1479558600@arkiv.barniuppsala.se
SUMMARY:Film; Grodmysteriet
DESCRIPTION:Filmvisning av Jacques-Rémy Girards film ”Grodmysteriet” som är en tecknad fransk film. En härlig\, varm och kraftfull film\, full av hopp. \nFilmen handlar om en stor översvämning som tvingar människor och djur att söka sig till en flytande ladugård – en slags improviserad Noaks ark.   Utan pekpinnar visar den på olika sätt att lösa konflikter. En barnfilm som visar att man kan vara snäll och rättvis utan att vara mesig! \nNär: 19 november kl. 10.30-12.30\nPlats: Tierps bibliotek \nObs! Boka plats via biblioteket: 0293-21 82 60. \n0SHARESDela eventet
URL:https://arkiv.barniuppsala.se/event/film-grodmysteriet/
LOCATION:Tierps bibliotek\, Grevegatan 19\, Tierp\, 815 23
CATEGORIES:Bibliotek,Bio
ATTACH;FMTTYPE=image/png:https://arkiv.barniuppsala.se/wp-content/uploads/2016/10/video-25128_960_720.png
ORGANIZER;CN="Biblinord%20Bibliotek%20Tierp":MAILTO:biblioteket.tierp@tierp.se
GEO:60.3458867;17.5147166
X-APPLE-STRUCTURED-LOCATION;VALUE=URI;X-ADDRESS=Tierps bibliotek Grevegatan 19 Tierp 815 23;X-APPLE-RADIUS=500;X-TITLE=Grevegatan 19:geo:17.5147166,60.3458867
END:VEVENT
END:VCALENDAR