BEGIN:VCALENDAR
VERSION:2.0
PRODID:-//Arkiv för Barn i Uppsala - ECPv5.1.6//NONSGML v1.0//EN
CALSCALE:GREGORIAN
METHOD:PUBLISH
X-WR-CALNAME:Arkiv för Barn i Uppsala
X-ORIGINAL-URL:https://arkiv.barniuppsala.se
X-WR-CALDESC:Händelser för Arkiv för Barn i Uppsala
BEGIN:VTIMEZONE
TZID:Europe/Stockholm
BEGIN:DAYLIGHT
TZOFFSETFROM:+0100
TZOFFSETTO:+0200
TZNAME:CEST
DTSTART:20150329T010000
END:DAYLIGHT
BEGIN:STANDARD
TZOFFSETFROM:+0200
TZOFFSETTO:+0100
TZNAME:CET
DTSTART:20151025T010000
END:STANDARD
END:VTIMEZONE
BEGIN:VEVENT
DTSTART;TZID=Europe/Stockholm:20151218T160000
DTEND;TZID=Europe/Stockholm:20151218T183000
DTSTAMP:20260419T224824
CREATED:20150904T080206Z
LAST-MODIFIED:20150904T080206Z
UID:3570-1450454400-1450463400@arkiv.barniuppsala.se
SUMMARY:Filmfredag för unga
DESCRIPTION:Filmfredag för unga \nFredag 18/12 kl 16–18.30. \nFilmklubb för dig 12–19 år\, gratis förstås. \nPlats: Sävjabiblioteket\, Programrummet. \nVill du gå med? Prata med personalen på bibblan. \n0SHARESDela eventet
URL:https://arkiv.barniuppsala.se/event/filmfredag-for-unga-4/
LOCATION:Sävjabiblioteket\, Västgötaresan\, Uppsala\, 757 54\, Sverige
CATEGORIES:Bio
GEO:59.8085971;17.7022024
X-APPLE-STRUCTURED-LOCATION;VALUE=URI;X-ADDRESS=Sävjabiblioteket Västgötaresan Uppsala 757 54 Sverige;X-APPLE-RADIUS=500;X-TITLE=Västgötaresan:geo:17.7022024,59.8085971
END:VEVENT
END:VCALENDAR