BEGIN:VCALENDAR
VERSION:2.0
PRODID:-//Arkiv för Barn i Uppsala - ECPv5.1.6//NONSGML v1.0//EN
CALSCALE:GREGORIAN
METHOD:PUBLISH
X-WR-CALNAME:Arkiv för Barn i Uppsala
X-ORIGINAL-URL:https://arkiv.barniuppsala.se
X-WR-CALDESC:Händelser för Arkiv för Barn i Uppsala
BEGIN:VTIMEZONE
TZID:Europe/Stockholm
BEGIN:DAYLIGHT
TZOFFSETFROM:+0100
TZOFFSETTO:+0200
TZNAME:CEST
DTSTART:20150329T010000
END:DAYLIGHT
BEGIN:STANDARD
TZOFFSETFROM:+0200
TZOFFSETTO:+0100
TZNAME:CET
DTSTART:20151025T010000
END:STANDARD
END:VTIMEZONE
BEGIN:VEVENT
DTSTART;TZID=Europe/Stockholm:20151127T160000
DTEND;TZID=Europe/Stockholm:20151127T180000
DTSTAMP:20260421T133934
CREATED:20150901T094148Z
LAST-MODIFIED:20150901T094148Z
UID:3435-1448640000-1448647200@arkiv.barniuppsala.se
SUMMARY:Filmklubben
DESCRIPTION:Gillar du film och vill träffa andra som gör det? \nGottsundabibliotekets filmklubb är tänkt för barn över 11 år och träffas tre gånger under hösten och tittar på film tillsammans i Hörsalen på Kulturpunkten. \n0SHARESDela eventet
URL:https://arkiv.barniuppsala.se/event/filmklubben-3/
LOCATION:Kulturpunkten\, Valthornsvägen 7\, Uppsala\, 756 50 
CATEGORIES:Bio
ATTACH;FMTTYPE=image/jpeg:https://arkiv.barniuppsala.se/wp-content/uploads/2015/09/Film.jpg
GEO:59.8101508;17.6290772
X-APPLE-STRUCTURED-LOCATION;VALUE=URI;X-ADDRESS=Kulturpunkten Valthornsvägen 7 Uppsala 756 50;X-APPLE-RADIUS=500;X-TITLE=Valthornsvägen 7:geo:17.6290772,59.8101508
END:VEVENT
END:VCALENDAR