BEGIN:VCALENDAR
VERSION:2.0
PRODID:-//Arkiv för Barn i Uppsala - ECPv5.1.6//NONSGML v1.0//EN
CALSCALE:GREGORIAN
METHOD:PUBLISH
X-WR-CALNAME:Arkiv för Barn i Uppsala
X-ORIGINAL-URL:https://arkiv.barniuppsala.se
X-WR-CALDESC:Händelser för Arkiv för Barn i Uppsala
BEGIN:VTIMEZONE
TZID:Europe/Stockholm
BEGIN:DAYLIGHT
TZOFFSETFROM:+0100
TZOFFSETTO:+0200
TZNAME:CEST
DTSTART:20170326T010000
END:DAYLIGHT
BEGIN:STANDARD
TZOFFSETFROM:+0200
TZOFFSETTO:+0100
TZNAME:CET
DTSTART:20171029T010000
END:STANDARD
END:VTIMEZONE
BEGIN:VEVENT
DTSTART;TZID=Europe/Stockholm:20170413T160000
DTEND;TZID=Europe/Stockholm:20170307T170000
DTSTAMP:20260423T021130
CREATED:20170307T124754Z
LAST-MODIFIED:20170307T124754Z
UID:11633-1492099200-1488906000@arkiv.barniuppsala.se
SUMMARY:Påsklov: Filmtorsdag i Kulturpunktens biosalong
DESCRIPTION:Filmtorsdag i Kulturpunktens biosalong\, mitt emot Gottsundabiblioteket. \nFilmvisning för barn från 7 år\, är du yngre måste du ha målsman med dig. \nGRATIS! Föranmälan till biblioteket. \nHörsalen\, torsdag 13 april kl 15. \nBild: pixabay.com. \n0SHARESDela eventet
URL:https://arkiv.barniuppsala.se/event/filmtorsdag-kulturpunktens-biosalong/
LOCATION:Kulturpunkten Gottsunda\, Valthornsvägen 7\, Uppsala\, 756 50\, Sverige
ATTACH;FMTTYPE=image/jpeg:https://arkiv.barniuppsala.se/wp-content/uploads/2017/03/filmtorsdag.jpg
ORGANIZER;CN="Bibliotek%20Uppsala":MAILTO:kundtjanst@bibliotekuppsala.se
GEO:59.8101508;17.6290772
X-APPLE-STRUCTURED-LOCATION;VALUE=URI;X-ADDRESS=Kulturpunkten Gottsunda Valthornsvägen 7 Uppsala 756 50 Sverige;X-APPLE-RADIUS=500;X-TITLE=Valthornsvägen 7:geo:17.6290772,59.8101508
END:VEVENT
END:VCALENDAR