BEGIN:VCALENDAR
VERSION:2.0
PRODID:-//Arkiv för Barn i Uppsala - ECPv5.1.6//NONSGML v1.0//EN
CALSCALE:GREGORIAN
METHOD:PUBLISH
X-WR-CALNAME:Arkiv för Barn i Uppsala
X-ORIGINAL-URL:https://arkiv.barniuppsala.se
X-WR-CALDESC:Händelser för Arkiv för Barn i Uppsala
BEGIN:VTIMEZONE
TZID:Europe/Stockholm
BEGIN:DAYLIGHT
TZOFFSETFROM:+0100
TZOFFSETTO:+0200
TZNAME:CEST
DTSTART:20200329T010000
END:DAYLIGHT
BEGIN:STANDARD
TZOFFSETFROM:+0200
TZOFFSETTO:+0100
TZNAME:CET
DTSTART:20201025T010000
END:STANDARD
END:VTIMEZONE
BEGIN:VEVENT
DTSTART;TZID=Europe/Stockholm:20201108T120000
DTEND;TZID=Europe/Stockholm:20201108T160000
DTSTAMP:20260419T163205
CREATED:20201022T122814Z
LAST-MODIFIED:20201022T122814Z
UID:71047-1604836800-1604851200@arkiv.barniuppsala.se
SUMMARY:Fira fars dag i regnskogen | Tropiska växthuset
DESCRIPTION:Fira fars dag i regnskogen\nFira fars dag med ett besök i Tropiska växthuset till fri entré. Tropiska växthuset håller öppet lite extra länge den här dagen fram till 16:00. Passa även på att ta en promenad i höstfina Botaniska trädgården. \nDatum: Fars dag\, söndag 8 november 2020\nTid: Tropiska växthuset har öppet mellan 12:00-16:00. Botaniska trädgården är öppen 07:00-19:00\nPlats: Botaniska trädgården Tropiska växthuset\, Villavägen 8\nAnmälan: Nej\nKostnad: Gratis \n\nTropiska växthuset\nI Tropiska växthuset odlas växter som ursprungligen hör hemma i ett varmare klimat än vårt svenska. Här finns växter från öken\, regnskog\, stäpp och savann. Du kan strosa runt bland orkidéer\, lianer\, palmer och insektsätande växter. \nI växthuset finns många tropiska kulturväxter som utgör råvaror till produkter vi använder dagligen i Sverige\, men som få svenskar har sett levande. Manillahampa ger tepåsar\, oljepalm ger tvål och shampo\, kakaoträdet ger choklad och den heliga lotusens nötter är ätliga. \n\nBesök gärna länkarna nedan (externa länkar öppnas i ett nytt fönster/flik).\nUppsala linneanska trädgårdar | Kommande museievent | Kommande naturevent \nFoto: Pixabay \n0SHARESDela eventet
URL:https://arkiv.barniuppsala.se/event/fira-fars-dag-regnskog-tropiska-vaxthuset-botaniska-tradgarden-2020/
LOCATION:Tropiska växthuset i Botaniska trädgården\, Villavägen 8\, Uppsala\, 752 36\, Sverige
CATEGORIES:Ålderskategori,Anmälan / Kostnad,Årliga event,Barn,Centrum,Eventkategorier,Familj,Geografisk kategori,Gratis,Historia,Ingen föranmälan,Kunskap och Lärande,Museidagen,Museum,Natur,Trädgård,Ungdom,Uppsala Kommun,? Uppsala
ATTACH;FMTTYPE=image/jpeg:https://arkiv.barniuppsala.se/wp-content/uploads/2020/10/tropiska-e1603191804421.jpg
ORGANIZER;CN="Tropiska%20v%C3%A4xthuset":MAILTO:botanical.garden@botan.uu.se
GEO:59.8503326;17.6269648
X-APPLE-STRUCTURED-LOCATION;VALUE=URI;X-ADDRESS=Tropiska växthuset i Botaniska trädgården Villavägen 8 Uppsala 752 36 Sverige;X-APPLE-RADIUS=500;X-TITLE=Villavägen 8:geo:17.6269648,59.8503326
END:VEVENT
END:VCALENDAR