BEGIN:VCALENDAR
VERSION:2.0
PRODID:-//Arkiv för Barn i Uppsala - ECPv5.1.6//NONSGML v1.0//EN
CALSCALE:GREGORIAN
METHOD:PUBLISH
X-WR-CALNAME:Arkiv för Barn i Uppsala
X-ORIGINAL-URL:https://arkiv.barniuppsala.se
X-WR-CALDESC:Händelser för Arkiv för Barn i Uppsala
BEGIN:VTIMEZONE
TZID:Europe/Stockholm
BEGIN:DAYLIGHT
TZOFFSETFROM:+0100
TZOFFSETTO:+0200
TZNAME:CEST
DTSTART:20160327T010000
END:DAYLIGHT
BEGIN:STANDARD
TZOFFSETFROM:+0200
TZOFFSETTO:+0100
TZNAME:CET
DTSTART:20161030T010000
END:STANDARD
END:VTIMEZONE
BEGIN:VEVENT
DTSTART;TZID=Europe/Stockholm:20161115T150000
DTEND;TZID=Europe/Stockholm:20161115T170000
DTSTAMP:20260420T161915
CREATED:20161115T091550Z
LAST-MODIFIED:20161115T091550Z
UID:9303-1479222000-1479229200@arkiv.barniuppsala.se
SUMMARY:Fira högläsningen!
DESCRIPTION:Fira högläsningen! \n\n\n\nVi läser högt ur bland annat 100-årjubilerande Roald Dahls berättelser\nDen är Gratis\, från Klockan 15:00-17:00 .\nFör barn och vuxna. Ingen föranmälan.\n\nPlats: i biblioteksentrén. \n\n\n\n 0SHARESDela eventet
URL:https://arkiv.barniuppsala.se/event/fira-hoglasningen/
LOCATION:Gottsundabiblioteket\, Valthornsvägen 11\, Uppsala\, 756 50\, Sverige
CATEGORIES:Ungdom
ATTACH;FMTTYPE=image/jpeg:https://arkiv.barniuppsala.se/wp-content/uploads/2016/11/baby.jpg
GEO:59.8093409;17.6295555
X-APPLE-STRUCTURED-LOCATION;VALUE=URI;X-ADDRESS=Gottsundabiblioteket Valthornsvägen 11 Uppsala 756 50 Sverige;X-APPLE-RADIUS=500;X-TITLE=Valthornsvägen 11:geo:17.6295555,59.8093409
END:VEVENT
END:VCALENDAR