BEGIN:VCALENDAR
VERSION:2.0
PRODID:-//Arkiv för Barn i Uppsala - ECPv5.1.6//NONSGML v1.0//EN
CALSCALE:GREGORIAN
METHOD:PUBLISH
X-WR-CALNAME:Arkiv för Barn i Uppsala
X-ORIGINAL-URL:https://arkiv.barniuppsala.se
X-WR-CALDESC:Händelser för Arkiv för Barn i Uppsala
BEGIN:VTIMEZONE
TZID:Europe/Stockholm
BEGIN:DAYLIGHT
TZOFFSETFROM:+0100
TZOFFSETTO:+0200
TZNAME:CEST
DTSTART:20180325T010000
END:DAYLIGHT
BEGIN:STANDARD
TZOFFSETFROM:+0200
TZOFFSETTO:+0100
TZNAME:CET
DTSTART:20181028T010000
END:STANDARD
END:VTIMEZONE
BEGIN:VEVENT
DTSTART;TZID=Europe/Stockholm:20180718T140000
DTEND;TZID=Europe/Stockholm:20180718T160000
DTSTAMP:20260421T131800
CREATED:20180712T083825Z
LAST-MODIFIED:20180712T083825Z
UID:21167-1531922400-1531929600@arkiv.barniuppsala.se
SUMMARY:Flaggspelspyssel
DESCRIPTION:Flaggspelspyssel\nKom och skapa ditt eget flaggspel\, som du sedan kan dekorera sommarens alla glada fester och picnickar med. Eller som du kan dekorera för tillfällen året runt för den delen också. Inga förkunskaper krävs. Passar för den totala nybörjaren såväl som för den rutinerade flaggspelspysslaren. \nTa med din mamma/pappa för trevligt pyssel på eftermiddagen. \nVar:\nSävjabiblioteket \nNär:\n18 juli kl 13-15 \nMer info hittar du in den här länken. \nBild hämtad från Pixabay \n0SHARESDela eventet
URL:https://arkiv.barniuppsala.se/event/flaggspelspyssel/
LOCATION:Sävjabiblioteket\, Sävja Kulturcentrum\, Västgötaresan 133\, Uppsala\, Uppsala\, 757 54 Uppsala\, Sverige
CATEGORIES:Bibliotek,Pyssel,Skapande och Kreativitet
ATTACH;FMTTYPE=image/jpeg:https://arkiv.barniuppsala.se/wp-content/uploads/2018/07/Flaggor-e1531208484493.jpg
ORGANIZER;CN="S%C3%A4vjabiblioteket":MAILTO:savjabiblioteket@uppsala.se
GEO:59.8107064;17.7022992
X-APPLE-STRUCTURED-LOCATION;VALUE=URI;X-ADDRESS=Sävjabiblioteket Sävja Kulturcentrum Västgötaresan 133 Uppsala Uppsala 757 54 Uppsala Sverige;X-APPLE-RADIUS=500;X-TITLE=Sävja Kulturcentrum\, Västgötaresan 133:geo:17.7022992,59.8107064
END:VEVENT
END:VCALENDAR