BEGIN:VCALENDAR
VERSION:2.0
PRODID:-//Arkiv för Barn i Uppsala - ECPv5.1.6//NONSGML v1.0//EN
CALSCALE:GREGORIAN
METHOD:PUBLISH
X-WR-CALNAME:Arkiv för Barn i Uppsala
X-ORIGINAL-URL:https://arkiv.barniuppsala.se
X-WR-CALDESC:Händelser för Arkiv för Barn i Uppsala
BEGIN:VTIMEZONE
TZID:Europe/Stockholm
BEGIN:DAYLIGHT
TZOFFSETFROM:+0100
TZOFFSETTO:+0200
TZNAME:CEST
DTSTART:20170326T010000
END:DAYLIGHT
BEGIN:STANDARD
TZOFFSETFROM:+0200
TZOFFSETTO:+0100
TZNAME:CET
DTSTART:20171029T010000
END:STANDARD
END:VTIMEZONE
BEGIN:VEVENT
DTSTART;TZID=Europe/Stockholm:20170421T110000
DTEND;TZID=Europe/Stockholm:20170421T110000
DTSTAMP:20260423T065032
CREATED:20170403T064711Z
LAST-MODIFIED:20170420T070729Z
UID:12223-1492772400-1492772400@arkiv.barniuppsala.se
SUMMARY:Fordon och maskiner
DESCRIPTION:Sagostund på Björklingebiblioteket\nKom till Björklingebiblioteket på en sagostund! \nLyssna på sagor om fordon och maskiner. \nBarn mellan 3-5 år är välkomna. \nOm ni kommer med en större grupp så föranmäl ert besök till biblioteket. \nGratis! \nBilden hämtad på pixabay.com \n0SHARESDela eventet
URL:https://arkiv.barniuppsala.se/event/fordon-och-maskiner/
LOCATION:Björklingebiblioteket\, Sandbrovägen 6\, Björklinge\, 743 64\, Sverige
CATEGORIES:Barn,Bibliotek,Sagostund – barn
ATTACH;FMTTYPE=image/jpeg:https://arkiv.barniuppsala.se/wp-content/uploads/2017/04/bulldozer-2195329_640.jpg
ORGANIZER;CN="Bibliotek%20Uppsala":MAILTO:kundtjanst@bibliotekuppsala.se
GEO:60.0261948;17.5550635
X-APPLE-STRUCTURED-LOCATION;VALUE=URI;X-ADDRESS=Björklingebiblioteket Sandbrovägen 6 Björklinge 743 64 Sverige;X-APPLE-RADIUS=500;X-TITLE=Sandbrovägen 6:geo:17.5550635,60.0261948
END:VEVENT
END:VCALENDAR