BEGIN:VCALENDAR
VERSION:2.0
PRODID:-//Arkiv för Barn i Uppsala - ECPv5.1.6//NONSGML v1.0//EN
CALSCALE:GREGORIAN
METHOD:PUBLISH
X-WR-CALNAME:Arkiv för Barn i Uppsala
X-ORIGINAL-URL:https://arkiv.barniuppsala.se
X-WR-CALDESC:Händelser för Arkiv för Barn i Uppsala
BEGIN:VTIMEZONE
TZID:Europe/Stockholm
BEGIN:DAYLIGHT
TZOFFSETFROM:+0100
TZOFFSETTO:+0200
TZNAME:CEST
DTSTART:20200329T010000
END:DAYLIGHT
BEGIN:STANDARD
TZOFFSETFROM:+0200
TZOFFSETTO:+0100
TZNAME:CET
DTSTART:20201025T010000
END:STANDARD
END:VTIMEZONE
BEGIN:VEVENT
DTSTART;TZID=Europe/Stockholm:20200109T180000
DTEND;TZID=Europe/Stockholm:20200109T191500
DTSTAMP:20260420T221047
CREATED:20200106T164535Z
LAST-MODIFIED:20200106T171217Z
UID:54060-1578592800-1578597300@arkiv.barniuppsala.se
SUMMARY:Föreläsning med meditation | Uppsala Stadsbibliotek
DESCRIPTION:Föreläsning med meditation | Uppsala Stadsbibliotek\nMeditation. När ett nytt år börjar kanske du känner dig inspirerad till att skapa nya vanor eller ta vara på möjligheten att börja om från början. Nyårslöften kan således vara mycket kraftfulla och effektiva för att på riktigt komma igång. \nGör år 2020 till året då du verkligen upplever ett gott nytt år genom att utveckla lugna\, positiva och lyckliga sinnestillstånd. I detta inspirerande föredrag kommer buddhistmunken Kelsang Jangdom att förklara hur man kan använda meditation som ett praktiskt verktyg för att befria oss själva från stress\, oro och missnöje och istället utveckla positiva perspektiv på livet. \nDatum: Torsdagen den 9 januari 2020\nTid: 18:00-19:15\nPlats: Uppsala Stadsbibliotek\, Mallas sal\nÅlder: För alla!\nPris: Gratis för alla! (Ingen förhandsbokning är nödvändig) \n\nOm Kelsang Jangdom\nKelsang Jangdom har utövat buddhism och meditation sedan 2003 och blev ordinerad som buddhistmunk 2010. Han kommer ursprungligen från England men han har under en lång tid arbetat för att stötta centren i Norden och sedan januari 2015 har han varit huvudlärare på Kadampa Meditationscenter Stockholm. \nMed glädje och lätthet förmedlar han från hjärtat de kraftfulla fördelarna av buddhismen i sina kloka och inspirerande undervisningar. \n\nBesök gärna länkarna nedan (externa länkar öppnas i ett nytt fönster/flik).\nFöreläsning med meditation  | Kadampa Meditationscenter Stockholm | Kommande event inom bibliotek \nFoto: Meditation i Uppsala \n0SHARESDela eventet
URL:https://arkiv.barniuppsala.se/event/forelasning-med-meditation-uppsala-stadbiblioteket/
LOCATION:Uppsala stadsbibliotek\, Svartbäcksgatan 17\, Uppsala\, 753 75\, Sverige
CATEGORIES:Ålderskategori,Anmälan / Kostnad,Barn,Bibliotek,Centrum,Familj,Föreläsning och Kurs,Geografisk kategori,Gratis,Hälsa & Välmående,Högtid,Ingen föranmälan,Jul,Jullov,Kunskap och Lärande,Psykisk hälsa,Skollov,Ungdom,? Uppsala
ATTACH;FMTTYPE=image/jpeg:https://arkiv.barniuppsala.se/wp-content/uploads/2019/12/79137517_3328468437227035_6525646917244813312_o-e1576498070145.jpg
ORGANIZER;CN="Meditation%20i%20Uppsala":MAILTO:info@meditationiuppsala.se
GEO:59.8606206;17.6353278
X-APPLE-STRUCTURED-LOCATION;VALUE=URI;X-ADDRESS=Uppsala stadsbibliotek Svartbäcksgatan 17 Uppsala 753 75 Sverige;X-APPLE-RADIUS=500;X-TITLE=Svartbäcksgatan 17:geo:17.6353278,59.8606206
END:VEVENT
END:VCALENDAR