BEGIN:VCALENDAR
VERSION:2.0
PRODID:-//Arkiv för Barn i Uppsala - ECPv5.1.6//NONSGML v1.0//EN
CALSCALE:GREGORIAN
METHOD:PUBLISH
X-WR-CALNAME:Arkiv för Barn i Uppsala
X-ORIGINAL-URL:https://arkiv.barniuppsala.se
X-WR-CALDESC:Händelser för Arkiv för Barn i Uppsala
BEGIN:VTIMEZONE
TZID:Europe/Stockholm
BEGIN:DAYLIGHT
TZOFFSETFROM:+0100
TZOFFSETTO:+0200
TZNAME:CEST
DTSTART:20170326T010000
END:DAYLIGHT
BEGIN:STANDARD
TZOFFSETFROM:+0200
TZOFFSETTO:+0100
TZNAME:CET
DTSTART:20171029T010000
END:STANDARD
END:VTIMEZONE
BEGIN:VEVENT
DTSTART;TZID=Europe/Stockholm:20171125T140000
DTEND;TZID=Europe/Stockholm:20171125T140000
DTSTAMP:20260420T114624
CREATED:20170830T123301Z
LAST-MODIFIED:20170830T123301Z
UID:15090-1511618400-1511618400@arkiv.barniuppsala.se
SUMMARY:Önskestjärnan - en föreställning på Uppsala Stadsteater
DESCRIPTION:Magiska saker kan hända\nLördag den 25 november kl 14:00 på Uppsala Stadsteater kan du se föreställningen Önskestjärnan. Önskestjärnan är en tänkvärd\, magisk och existentiell berättelse om att inte känna sig förstådd. \n“Allting började med att jag\, Jennifer\, blev osams med min bästis Vera. Jag var elva år då och vi hade bråkat om vår låtsashund. När jag kom hem var mamma dessutom tjatig. Alla var dumma\, Jättedumma. Den vinterkvällen önskade jag att jag vore en hund. En hund behöver bara finnas\, bli klappad och pussad. Och plötsligt fick jag inte vara med och äta vid bordet längre. Och jag var tvungen att sova i en korg.” \nKlicka här för att boka biljett \nBiljett: Barn betalar 50 kr\, vuxna 100 kr \nBild från pixabay.com \n0SHARESDela eventet
URL:https://arkiv.barniuppsala.se/event/forestallning/
LOCATION:Uppsala stadsteater\, Kungsgatan 53\, Uppsala\, 751 40
CATEGORIES:Barn,Teater
ATTACH;FMTTYPE=image/jpeg:https://arkiv.barniuppsala.se/wp-content/uploads/2017/06/theater-1713816_640.jpg
GEO:59.8589496;17.642927
X-APPLE-STRUCTURED-LOCATION;VALUE=URI;X-ADDRESS=Uppsala stadsteater Kungsgatan 53 Uppsala 751 40;X-APPLE-RADIUS=500;X-TITLE=Kungsgatan 53:geo:17.642927,59.8589496
END:VEVENT
END:VCALENDAR