BEGIN:VCALENDAR
VERSION:2.0
PRODID:-//Arkiv för Barn i Uppsala - ECPv5.1.6//NONSGML v1.0//EN
CALSCALE:GREGORIAN
METHOD:PUBLISH
X-WR-CALNAME:Arkiv för Barn i Uppsala
X-ORIGINAL-URL:https://arkiv.barniuppsala.se
X-WR-CALDESC:Händelser för Arkiv för Barn i Uppsala
BEGIN:VTIMEZONE
TZID:Europe/Stockholm
BEGIN:DAYLIGHT
TZOFFSETFROM:+0100
TZOFFSETTO:+0200
TZNAME:CEST
DTSTART:20150329T010000
END:DAYLIGHT
BEGIN:STANDARD
TZOFFSETFROM:+0200
TZOFFSETTO:+0100
TZNAME:CET
DTSTART:20151025T010000
END:STANDARD
END:VTIMEZONE
BEGIN:VEVENT
DTSTART;TZID=Europe/Stockholm:20151002T140000
DTEND;TZID=Europe/Stockholm:20151002T170000
DTSTAMP:20260420T233127
CREATED:20150902T095647Z
LAST-MODIFIED:20150902T095647Z
UID:3537-1443794400-1443805200@arkiv.barniuppsala.se
SUMMARY:Fredagar på Årsta 4H
DESCRIPTION:På fredagarna bjuds pyssel så som bakning\, lekar och pyssel med djuren. Du kan även prova på ponnyridning och delta vid utfodring av djuren. \n0SHARESDela eventet
URL:https://arkiv.barniuppsala.se/event/fredagar-pa-arsta-4h-5/
LOCATION:Årsta 4H\, Vitkålsgatan 78a\, Uppsala\, 754 49 
CATEGORIES:Djur,Kunskap och Lärande
ATTACH;FMTTYPE=image/jpeg:https://arkiv.barniuppsala.se/wp-content/uploads/2015/09/Get.jpg
GEO:59.8721583;17.6957159
X-APPLE-STRUCTURED-LOCATION;VALUE=URI;X-ADDRESS=Årsta 4H Vitkålsgatan 78a Uppsala 754 49;X-APPLE-RADIUS=500;X-TITLE=Vitkålsgatan 78a:geo:17.6957159,59.8721583
END:VEVENT
END:VCALENDAR