BEGIN:VCALENDAR
VERSION:2.0
PRODID:-//Arkiv för Barn i Uppsala - ECPv5.1.6//NONSGML v1.0//EN
CALSCALE:GREGORIAN
METHOD:PUBLISH
X-WR-CALNAME:Arkiv för Barn i Uppsala
X-ORIGINAL-URL:https://arkiv.barniuppsala.se
X-WR-CALDESC:Händelser för Arkiv för Barn i Uppsala
BEGIN:VTIMEZONE
TZID:Europe/Stockholm
BEGIN:DAYLIGHT
TZOFFSETFROM:+0100
TZOFFSETTO:+0200
TZNAME:CEST
DTSTART:20160327T010000
END:DAYLIGHT
BEGIN:STANDARD
TZOFFSETFROM:+0200
TZOFFSETTO:+0100
TZNAME:CET
DTSTART:20161030T010000
END:STANDARD
END:VTIMEZONE
BEGIN:VEVENT
DTSTART;TZID=Europe/Stockholm:20161122T190000
DTEND;TZID=Europe/Stockholm:20161122T200000
DTSTAMP:20260420T134439
CREATED:20161109T110118Z
LAST-MODIFIED:20161121T101851Z
UID:9229-1479841200-1479844800@arkiv.barniuppsala.se
SUMMARY:Frökonsert med Enköpings kulturskola
DESCRIPTION:Frökonsert med Enköpings kulturskolas nybörjare på Kulturhus Joar. \nInträdeskostnad: Fri entré. \nTid: 19:00 \n  \nOm Kulturskolan i Enköping: Kulturskolan i Enköping erbjuder undervisning för barn\, ungdomar och vuxna inom områdena musik\, dans och drama/teater. De träffar cirka 1 300 elever varje vecka i våra ämneskurser\, och utöver det träffar de barn på de flesta av kommunens grundskolor i bland annat musiklek i förskoleklass och kompanjonlärarskap i musik i årskurs 2. \n  \nBild från pixabay.com \n0SHARESDela eventet
URL:https://arkiv.barniuppsala.se/event/frokonsert-enkopings-kulturskola/2016-11-22/
LOCATION:Kulturhuset Joar\, ÅGATAN 29\, Enköping\, 745 31\, Sverige
CATEGORIES:Sång och Musik,Teater och Bio
ATTACH;FMTTYPE=image/png:https://arkiv.barniuppsala.se/wp-content/uploads/2016/10/hopppande-ungdomar-e1477907157548.png
GEO:59.6338936;17.0735197
X-APPLE-STRUCTURED-LOCATION;VALUE=URI;X-ADDRESS=Kulturhuset Joar ÅGATAN 29 Enköping 745 31 Sverige;X-APPLE-RADIUS=500;X-TITLE=ÅGATAN 29:geo:17.0735197,59.6338936
END:VEVENT
END:VCALENDAR