BEGIN:VCALENDAR
VERSION:2.0
PRODID:-//Arkiv för Barn i Uppsala - ECPv5.1.6//NONSGML v1.0//EN
CALSCALE:GREGORIAN
METHOD:PUBLISH
X-WR-CALNAME:Arkiv för Barn i Uppsala
X-ORIGINAL-URL:https://arkiv.barniuppsala.se
X-WR-CALDESC:Händelser för Arkiv för Barn i Uppsala
BEGIN:VTIMEZONE
TZID:Europe/Stockholm
BEGIN:DAYLIGHT
TZOFFSETFROM:+0100
TZOFFSETTO:+0200
TZNAME:CEST
DTSTART:20190331T010000
END:DAYLIGHT
BEGIN:STANDARD
TZOFFSETFROM:+0200
TZOFFSETTO:+0100
TZNAME:CET
DTSTART:20191027T010000
END:STANDARD
END:VTIMEZONE
BEGIN:VEVENT
DTSTART;TZID=Europe/Stockholm:20191226T140000
DTEND;TZID=Europe/Stockholm:20191226T154500
DTSTAMP:20260420T220954
CREATED:20191209T084516Z
LAST-MODIFIED:20191209T084516Z
UID:53727-1577368800-1577375100@arkiv.barniuppsala.se
SUMMARY:Frost 2 - Blå Wingen | Knivsta (7år+)
DESCRIPTION:Frost 2 – Blå Wingen | Knivsta (7år+)\n\nSystrarna Elsa och Anna är tillbaka! \nFrost 2 – Var fick Elsa sina krafter ifrån? Svaret hon söker kallar på henne och hotar även hela kungariket Arendal. Tillsammans med sin viljestarka syster Anna och deras vänner Kristoffer\, renen Sven och snögubben Olaf ger de sig av på en resa fylld av magi och faror bortom Arendal för att ta reda på mer om Elsas förflutna. Nu är frågan om Elsas isiga krafter räcker till… \nBild: från arrangören \n\nDatum: \nTorsdagen den 26 december 2019\nSöndagen den 29 december 2019\nSöndagen den 5 januari 2020 \nTid: 14.00\nLängd: 1 timme 45 minuter\nÅlder: 7 år+\nSpråk: Svenska\nPris: 80 kr\nBokning:\nBoka via SMS:  SMS:a vilken film\, tidpunkt\, antal biljetter och i vilket namn till Tel. 070-620 57 69\nBoka via mail: Maila vilken film\, tidpunkt\, antal biljetter och i vilket namn till e-post: wingenbio@telia.com senast 1 timme innan föreställningen börjar (för att det ska hinnas läsas ) \nBokningen hålls till 15 minuter innan filmen börjar. \nBetalning:\nSwish och kontanter –Inga kort! \n\n \n\nBild: från arrangören \nFrost 2 (engelska: Frozen 2) är en  amerikansk animerad film med  premiär till jul 2019 i produktion av Walt Disney Company och regi av Chris Buck och Jennifer Lee. Den är en uppföljare till filmen Frost från 2013\, som är baserad på H.C. Andersens saga Snödrottningen från 184. \nSvenska röster: Annika Herlitz\, Mimmi Sandén\, Sebastian Karlsson\, Nassim Al Fakir\, Torsten Wahlund\, och Linda Olsson.\n\n\n\n\nBesök gärna följande länkar nedan (extern länk öppnas i nytt fönster/flik) \n\nBlå Wingen | Kommande event på bio | Event på jullovet\nBild: Från arrangören\n 0SHARESDela eventet
URL:https://arkiv.barniuppsala.se/event/frost-2-bla-wingen-knivsta-7ar/2019-12-26/
LOCATION:Blå Wingen Bio\, Vackerberga 35\, Uppsala\, 741 95\, Sverige
CATEGORIES:Ålderskategori,Anmälan / Kostnad,Barn,Barnbio,Bio,Familj,Förköp / Bokning,Geografisk kategori,Jullov,Knivsta Kommun,Musikal,Sång och Musik,Skollov,Teater och Bio
ATTACH;FMTTYPE=image/jpeg:https://arkiv.barniuppsala.se/wp-content/uploads/2019/12/MV5BMjAwODY0Njg5NF5BMl5BanBnXkFtZTgwODgxOTE0NzM._V1_SX1777_CR001777743_AL_1-1.jpg
ORGANIZER;CN="Bl%C3%A5%20Wingen%20Bio":MAILTO:wingenbio@telia.com
END:VEVENT
END:VCALENDAR