BEGIN:VCALENDAR
VERSION:2.0
PRODID:-//Arkiv för Barn i Uppsala - ECPv5.1.6//NONSGML v1.0//EN
CALSCALE:GREGORIAN
METHOD:PUBLISH
X-WR-CALNAME:Arkiv för Barn i Uppsala
X-ORIGINAL-URL:https://arkiv.barniuppsala.se
X-WR-CALDESC:Händelser för Arkiv för Barn i Uppsala
BEGIN:VTIMEZONE
TZID:Europe/Stockholm
BEGIN:DAYLIGHT
TZOFFSETFROM:+0100
TZOFFSETTO:+0200
TZNAME:CEST
DTSTART:20190331T010000
END:DAYLIGHT
BEGIN:STANDARD
TZOFFSETFROM:+0200
TZOFFSETTO:+0100
TZNAME:CET
DTSTART:20191027T010000
END:STANDARD
END:VTIMEZONE
BEGIN:VEVENT
DTSTART;TZID=Europe/Stockholm:20190908T143000
DTEND;TZID=Europe/Stockholm:20190908T170000
DTSTAMP:20260421T135905
CREATED:20190904T072429Z
LAST-MODIFIED:20190904T072429Z
UID:48046-1567953000-1567962000@arkiv.barniuppsala.se
SUMMARY:Fru Linnés spel i professorsbostaden | Linnéträdgården
DESCRIPTION:Fru Linnés spel i professorsbostaden | Linnéträdgården\nI professorsbostaden i Linnéträdgården\, det som idag är Linnémuseet\, bodde och verkade Carl von Linné i nästa 40 år. Bland hemmets föremål finns fru Linnés spelkort\, ett damspel och andra kvinnliga tidsfördriv från 1700-talets andra halva. Under kulturarvsdagen har du möjlighet att lära dig mer om dessa föremål. Under kulturarvsdagens visningar i professorshemmet läggs tonvikten på spelkort\, damspel och siluetter – några exempel för de tidsfördriv som kvinnor ägnade sig på under 1700-talets andra hälft.  Korta visningar ges kl. 13.30 och 15.30. Museet och trädgården är öppna klockan 11 till 17. \nDatum: Söndag 8 september 2019\nTid: 13:30 – 16:00\nPlats: Linnéträdgården\nÅlder: Ej angiven\nPris: 80 kronor. Barn under 18 år fri entré.\nAnmälan: Ingen föranmälan\, men begränsat antal platser\nArrangörer: Uppsala linneanska trädgårdar\, Uppsala universitet\nTillgänglighet: Linnémuseet är byggd på 1700-talet och har höga trösklar och en brant trappa. Museet är inte tillgängligt med rullstol. \n\nHålltider för programpunkter:\n\nSöndag\, 8 september\, 2019 \n13:30 – 14:00 Kort visning av kvinnliga tidsfördriv i Sara Lisa von Linnés hem \n15:30 – 16:00 Kort visning av kvinnliga tidsfördriv i Sara Lisa von Linnés hem \n\n\nOm Linné\nCarl von Linné är utan jämförelse den internationellt mest kände svenske vetenskapsmannen genom tiderna. Han är för många blomsterkungen\, mest känd för sitt sätt att ordna naturen i det klassifikationssystem som presenterades år 1735 i Systema naturae. Men Linnés nyfikenhet och kreativitet lockade också honom till andra vetenskaper. Han var inte bara naturvetare\, botanist\, zoolog och geolog utan också en skicklig läkare\, friskvårdare och filosof. Linné tänkte i tvärvetenskapliga banor och såg hur människa och natur samverkade. Med en nutida formulering kan man faktiskt kalla honom för den första ekologen. \n\nBesök gärna länkarna nedan (externa länkar öppnas i ett nytt fönster/flik).\nProfessorsbostaden Linnémuseet | Kommande event på museum | Kommande event på Linnéträdgården \nFoto: Google \n0SHARESDela eventet
URL:https://arkiv.barniuppsala.se/event/fru-linnes-spel-i-linnetradgarden/
LOCATION:Linnéträdgården\, Svartbäcksgatan 27\, Uppsala\, 75332\, Sverige
CATEGORIES:Barn,Familj,Kunskap och Lärande,Museum,Ungdom,Utomhusaktivitet
ATTACH;FMTTYPE=image/jpeg:https://arkiv.barniuppsala.se/wp-content/uploads/2017/04/Linnéträdgården_1-e1500556486347.jpg
ORGANIZER;CN="Uppsala%20linneanska%20tr%C3%A4dg%C3%A5rdar":MAILTO:bokning@botan.uu.se
GEO:59.8622181;17.6349969
X-APPLE-STRUCTURED-LOCATION;VALUE=URI;X-ADDRESS=Linnéträdgården Svartbäcksgatan 27 Uppsala 75332 Sverige;X-APPLE-RADIUS=500;X-TITLE=Svartbäcksgatan 27:geo:17.6349969,59.8622181
END:VEVENT
END:VCALENDAR