BEGIN:VCALENDAR
VERSION:2.0
PRODID:-//Arkiv för Barn i Uppsala - ECPv5.1.6//NONSGML v1.0//EN
CALSCALE:GREGORIAN
METHOD:PUBLISH
X-WR-CALNAME:Arkiv för Barn i Uppsala
X-ORIGINAL-URL:https://arkiv.barniuppsala.se
X-WR-CALDESC:Händelser för Arkiv för Barn i Uppsala
BEGIN:VTIMEZONE
TZID:Europe/Stockholm
BEGIN:DAYLIGHT
TZOFFSETFROM:+0100
TZOFFSETTO:+0200
TZNAME:CEST
DTSTART:20170326T010000
END:DAYLIGHT
BEGIN:STANDARD
TZOFFSETFROM:+0200
TZOFFSETTO:+0100
TZNAME:CET
DTSTART:20171029T010000
END:STANDARD
END:VTIMEZONE
BEGIN:VEVENT
DTSTART;TZID=Europe/Stockholm:20170325T100000
DTEND;TZID=Europe/Stockholm:20170325T130000
DTSTAMP:20260422T122941
CREATED:20170309T081337Z
LAST-MODIFIED:20170309T101746Z
UID:11704-1490436000-1490446800@arkiv.barniuppsala.se
SUMMARY:Fynda klimatsmart på Barnloppis!
DESCRIPTION:Fynda klimatsmart på Barnloppis! S:t Pers kyrka lördag 25 mars kl 10-13. \nHär hittar du garanterat fina\, begagnade barnkläder\, barnskor och leksaker och andra barngrejor från bebis upp till tonår.\nDet säljs också cyklar och trehjulingar.\nNär ni handlat allt ni kan bära finns möjlighet att köpa fika\, korv med bröd och annat gott. \nBild: pixabay.com. \n  \n0SHARESDela eventet
URL:https://arkiv.barniuppsala.se/event/fynda-klimatsmart-pa-barnloppis/
LOCATION:S:t pers kyrka\, Kvarntorget\, Uppsala\, 754 21\, Sverige
CATEGORIES:Marknad & Loppis
ATTACH;FMTTYPE=image/jpeg:https://arkiv.barniuppsala.se/wp-content/uploads/2017/03/barnloppis3-e1565690162219.jpg
GEO:59.8674572;17.648945
X-APPLE-STRUCTURED-LOCATION;VALUE=URI;X-ADDRESS=S:t pers kyrka Kvarntorget Uppsala 754 21 Sverige;X-APPLE-RADIUS=500;X-TITLE=Kvarntorget:geo:17.648945,59.8674572
END:VEVENT
END:VCALENDAR