BEGIN:VCALENDAR
VERSION:2.0
PRODID:-//Arkiv för Barn i Uppsala - ECPv5.1.6//NONSGML v1.0//EN
CALSCALE:GREGORIAN
METHOD:PUBLISH
X-WR-CALNAME:Arkiv för Barn i Uppsala
X-ORIGINAL-URL:https://arkiv.barniuppsala.se
X-WR-CALDESC:Händelser för Arkiv för Barn i Uppsala
BEGIN:VTIMEZONE
TZID:Europe/Stockholm
BEGIN:DAYLIGHT
TZOFFSETFROM:+0100
TZOFFSETTO:+0200
TZNAME:CEST
DTSTART:20170326T010000
END:DAYLIGHT
BEGIN:STANDARD
TZOFFSETFROM:+0200
TZOFFSETTO:+0100
TZNAME:CET
DTSTART:20171029T010000
END:STANDARD
END:VTIMEZONE
BEGIN:VEVENT
DTSTART;TZID=Europe/Stockholm:20170401T110000
DTEND;TZID=Europe/Stockholm:20170401T170000
DTSTAMP:20260420T002527
CREATED:20170223T120403Z
LAST-MODIFIED:20200201T023852Z
UID:11344-1491044400-1491066000@arkiv.barniuppsala.se
SUMMARY:Fyrisåns fiskar - vilka fiskar finns i Fyrisån och i Mälaren?
DESCRIPTION:Fyrisåns fiskar – Följ med ner under ytan och ta reda på mer om vilka fiskar som finns i Fyrisån och Mälaren.\n\nPå Biotopia invigs ett nytt sötvattensakvarium där det visas en del av de fiskar som lever i Fyrisån. \nHur andas en fisk och hur och vad äter de? Välkommen att se på när fiskarna matas kl 14. \nKom och kolla redan fredag 31 mars kl. 15.00\, då släpps fiskarna ner i akvariet. \nBiotopia har bjudit in äventyraren Markus Aspsjö som ska berätta om hur det känns att simma hela Fyrisån. \nDu kan även prova på att bygga ihop din egen spinnare för abborre från en byggsats (pris ca 20:-) och när den är färdig kan du testa hur den rör sig i vattnet. \nFisketemat genomförs i samarbete med fiskeklubben Rena Rama Löjan och Upplandsstiftelsens fiskgrupp. \n  \nBild: ommons.wikimedia.org. \n\n 0SHARESDela eventet
URL:https://arkiv.barniuppsala.se/event/fyrisans-fiskar/2017-04-01/
LOCATION:Biotopia – Biologiska museet\, Vasagatan 4\, Uppsala\, 753 13\, Sverige
CATEGORIES:Djur,Kunskap och Lärande
ATTACH;FMTTYPE=image/jpeg:https://arkiv.barniuppsala.se/wp-content/uploads/2017/02/aspar.jpg
ORGANIZER;CN="Biotopia":MAILTO:info@biotopia.nu
END:VEVENT
END:VCALENDAR