BEGIN:VCALENDAR
VERSION:2.0
PRODID:-//Arkiv för Barn i Uppsala - ECPv5.1.6//NONSGML v1.0//EN
CALSCALE:GREGORIAN
METHOD:PUBLISH
X-WR-CALNAME:Arkiv för Barn i Uppsala
X-ORIGINAL-URL:https://arkiv.barniuppsala.se
X-WR-CALDESC:Händelser för Arkiv för Barn i Uppsala
BEGIN:VTIMEZONE
TZID:Europe/Stockholm
BEGIN:DAYLIGHT
TZOFFSETFROM:+0100
TZOFFSETTO:+0200
TZNAME:CEST
DTSTART:20180325T010000
END:DAYLIGHT
BEGIN:STANDARD
TZOFFSETFROM:+0200
TZOFFSETTO:+0100
TZNAME:CET
DTSTART:20181028T010000
END:STANDARD
END:VTIMEZONE
BEGIN:VEVENT
DTSTART;TZID=Europe/Stockholm:20180929T150000
DTEND;TZID=Europe/Stockholm:20180929T162000
DTSTAMP:20260420T091932
CREATED:20180927T113349Z
LAST-MODIFIED:20180927T113349Z
UID:23718-1538233200-1538238000@arkiv.barniuppsala.se
SUMMARY:Fyrisbiografen visar Agatha - Granndetektiven
DESCRIPTION:Fyrisbiografen visar Agatha – Granndetektiven\nTioåriga Agatha-Christine\, kallad A-C\, gillar att vara ensam och älskar mysterier och deckarhistorier. Hon har nyss flyttat in i ett nytt hus och i ett källarförråd inreder hon en detektivbyrå. Det första fallet verkar vara enkelt\, men det utvecklar sig till en mycket komplicerad historia. Huvudmisstänkt är grannpojken Vincent som A-C stöter ihop med i närbutiken på hörnet. En påhittig animerad barndeckare om att våga vara sig själv. \nAgatha – Granndetektiven är en dansk tecknad film av Karla von Bengtson. Filmen är 77 minuter lång och är rekommenderad från 5 år. \nDatum: lördagen den 29 september 2018\nTid: 14.00\nPlats: Fyrisbiografen\nÅlder: från 5 år\nLängd: 77 min\nPris: 80 kr \n  \n\nBesök gärna länken nedan för mer information (öppnas i nytt fönster/flik).\nFyrisbiografen \nBild: från arrangör \n0SHARESDela eventet
URL:https://arkiv.barniuppsala.se/event/fyrisbiografen-agatha-granndetektiven/
LOCATION:Fyrisbiografen\, S:t Olofsgatan 10\, Uppsala\, 75312\, Sverige
CATEGORIES:Barn,Bio
ATTACH;FMTTYPE=image/jpeg:https://arkiv.barniuppsala.se/wp-content/uploads/2018/09/unnamed-4.jpg
GEO:59.8579889;17.6286964
X-APPLE-STRUCTURED-LOCATION;VALUE=URI;X-ADDRESS=Fyrisbiografen S:t Olofsgatan 10 Uppsala 75312 Sverige;X-APPLE-RADIUS=500;X-TITLE=S:t Olofsgatan 10:geo:17.6286964,59.8579889
END:VEVENT
END:VCALENDAR