BEGIN:VCALENDAR
VERSION:2.0
PRODID:-//Arkiv för Barn i Uppsala - ECPv5.1.6//NONSGML v1.0//EN
CALSCALE:GREGORIAN
METHOD:PUBLISH
X-WR-CALNAME:Arkiv för Barn i Uppsala
X-ORIGINAL-URL:https://arkiv.barniuppsala.se
X-WR-CALDESC:Händelser för Arkiv för Barn i Uppsala
BEGIN:VTIMEZONE
TZID:Europe/Stockholm
BEGIN:DAYLIGHT
TZOFFSETFROM:+0100
TZOFFSETTO:+0200
TZNAME:CEST
DTSTART:20170326T010000
END:DAYLIGHT
BEGIN:STANDARD
TZOFFSETFROM:+0200
TZOFFSETTO:+0100
TZNAME:CET
DTSTART:20171029T010000
END:STANDARD
END:VTIMEZONE
BEGIN:VEVENT
DTSTART;TZID=Europe/Stockholm:20170411T150000
DTEND;TZID=Europe/Stockholm:20170411T170000
DTSTAMP:20260423T013500
CREATED:20170308T100302Z
LAST-MODIFIED:20170315T081616Z
UID:11677-1491922800-1491930000@arkiv.barniuppsala.se
SUMMARY:Går det att mäta påsken?
DESCRIPTION:Går det att mäta påsken? Kom och försök mäta påsken.\n\nAlla påsklovslediga barn får lära sig mer om olika mätmetoder i ett spännande uppdrag att försöka mäta påsken.\n\n\n\n\nPlats: Museum Gustavianum \nArrangör: Gustavianum. Kontaktperson: Cecilia Ödman\, telefon: 018 471 7573. \nNär: 11-12 samt 15-16 april kl. 14.00-16.00 \n\n\n\nFritt inträde för barn tom 19 år. \n\n  \nBild från pixabay.com \n\n\n\n  \n\n\n 0SHARESDela eventet
URL:https://arkiv.barniuppsala.se/event/gar-det-att-mata-pasken-2/2017-04-11/
LOCATION:Museum Gustavianum\, Akademigatan 3\, Uppsala\, 753 10\, Sverige
CATEGORIES:Lärande lek,Museum,Påsklov
ATTACH;FMTTYPE=image/jpeg:https://arkiv.barniuppsala.se/wp-content/uploads/2017/03/Påskägg-e1521710419652.jpg
GEO:59.8579596;17.6318354
X-APPLE-STRUCTURED-LOCATION;VALUE=URI;X-ADDRESS=Museum Gustavianum Akademigatan 3 Uppsala 753 10 Sverige;X-APPLE-RADIUS=500;X-TITLE=Akademigatan 3:geo:17.6318354,59.8579596
END:VEVENT
END:VCALENDAR