BEGIN:VCALENDAR
VERSION:2.0
PRODID:-//Arkiv för Barn i Uppsala - ECPv5.1.6//NONSGML v1.0//EN
CALSCALE:GREGORIAN
METHOD:PUBLISH
X-WR-CALNAME:Arkiv för Barn i Uppsala
X-ORIGINAL-URL:https://arkiv.barniuppsala.se
X-WR-CALDESC:Händelser för Arkiv för Barn i Uppsala
BEGIN:VTIMEZONE
TZID:Europe/Stockholm
BEGIN:DAYLIGHT
TZOFFSETFROM:+0100
TZOFFSETTO:+0200
TZNAME:CEST
DTSTART:20160327T010000
END:DAYLIGHT
BEGIN:STANDARD
TZOFFSETFROM:+0200
TZOFFSETTO:+0100
TZNAME:CET
DTSTART:20161030T010000
END:STANDARD
END:VTIMEZONE
BEGIN:VEVENT
DTSTART;TZID=Europe/Stockholm:20161023T140000
DTEND;TZID=Europe/Stockholm:20161023T144500
DTSTAMP:20260420T225111
CREATED:20161019T075916Z
LAST-MODIFIED:20161019T075916Z
UID:8793-1477231200-1477233900@arkiv.barniuppsala.se
SUMMARY:Gästspel; Ah hallo bebis
DESCRIPTION:Söndagen 23/10 besöker gästspelet Ah hallo Bebis Den lilla teatern. Idé av Minna Krook. För bebisar 6-18 mån med nära vuxen. \nAh hallo bebis är en mysig föreställning där dans\, glada färger och spännande ljud får upplevas. Skådespelarna agerar t.ex. med att spela på vatten och dansa på mjuka täcken. De sjunger och gör musik med ex. tandborstar. \nNär: Söndag 23/10 kl. 13.00 \nVar: Lilla Teatern \nKostnad: 90 kr\, biljetter bokas via Den lilla teaterns hemsida. \n  \nMer information om gästspelet finns på Lilla teaterns hemsida samt på Minna Krook dans hemsida. \n  \nBild från pixabay.com \n0SHARESDela eventet
URL:https://arkiv.barniuppsala.se/event/gastspel-ah-hallo-bebis/
LOCATION:Den Lilla Teatern\, S:t Persgatan 22\, Uppsala\, 753 29
CATEGORIES:Sång och Musik,Teater och Bio
ATTACH;FMTTYPE=image/png:https://arkiv.barniuppsala.se/wp-content/uploads/2016/10/Färgglad-regnbåge.png
ORGANIZER;CN="Minna%20Krook%20dans":MAILTO:info@minnakrook.se
GEO:59.8618076;17.6424759
X-APPLE-STRUCTURED-LOCATION;VALUE=URI;X-ADDRESS=Den Lilla Teatern S:t Persgatan 22 Uppsala 753 29;X-APPLE-RADIUS=500;X-TITLE=S:t Persgatan 22:geo:17.6424759,59.8618076
END:VEVENT
END:VCALENDAR