BEGIN:VCALENDAR
VERSION:2.0
PRODID:-//Arkiv för Barn i Uppsala - ECPv5.1.6//NONSGML v1.0//EN
CALSCALE:GREGORIAN
METHOD:PUBLISH
X-WR-CALNAME:Arkiv för Barn i Uppsala
X-ORIGINAL-URL:https://arkiv.barniuppsala.se
X-WR-CALDESC:Händelser för Arkiv för Barn i Uppsala
BEGIN:VTIMEZONE
TZID:Europe/Stockholm
BEGIN:DAYLIGHT
TZOFFSETFROM:+0100
TZOFFSETTO:+0200
TZNAME:CEST
DTSTART:20160327T010000
END:DAYLIGHT
BEGIN:STANDARD
TZOFFSETFROM:+0200
TZOFFSETTO:+0100
TZNAME:CET
DTSTART:20161030T010000
END:STANDARD
END:VTIMEZONE
BEGIN:VEVENT
DTSTART;TZID=Europe/Stockholm:20160618T150000
DTEND;TZID=Europe/Stockholm:20160618T160000
DTSTAMP:20260422T002707
CREATED:20160610T070638Z
LAST-MODIFIED:20160610T074059Z
UID:7274-1466262000-1466265600@arkiv.barniuppsala.se
SUMMARY:Geocaching vid Gränby 4H-Gård
DESCRIPTION:Om ni tror att geocaching kan vara något för er kan ni börja själva genom att installera en geocachingapp i er mobil\, t ex c:geo. på www.geocaching.com kan ni sedan skapa ett nickname (smeknamn). Sedan är det bara att leta upp cacharna/gömmorna med hjälp av appen i er mobil. När ni har hittat cachen kan ni markera den som hittad med bl a ert nickname. \nBesök sedan detta evenemang och träffa erfarna geocachare. Det bjuds på fika och ni får en uppgift att lösa. Gränby 4H-gård är förövrigt en trevlig och barnvänlig plats att besöka nu på sommaren. \n0SHARESDela eventet
URL:https://arkiv.barniuppsala.se/event/geocaching-vid-granby-4h-gard-3/
LOCATION:Gränby 4H-gård\, Norra Gränbyvägen 20\, Uppsala\, 754 32\, Sverige
ATTACH;FMTTYPE=image/jpeg:https://arkiv.barniuppsala.se/wp-content/uploads/2016/05/geocache-398016_960_720.jpg
ORGANIZER;CN="Geocaching%20Uppsala":MAILTO:bjornolav@hotmail.se
GEO:59.8790432;17.6680899
X-APPLE-STRUCTURED-LOCATION;VALUE=URI;X-ADDRESS=Gränby 4H-gård Norra Gränbyvägen 20 Uppsala 754 32 Sverige;X-APPLE-RADIUS=500;X-TITLE=Norra Gränbyvägen 20:geo:17.6680899,59.8790432
END:VEVENT
END:VCALENDAR