BEGIN:VCALENDAR
VERSION:2.0
PRODID:-//Arkiv för Barn i Uppsala - ECPv5.1.6//NONSGML v1.0//EN
CALSCALE:GREGORIAN
METHOD:PUBLISH
X-WR-CALNAME:Arkiv för Barn i Uppsala
X-ORIGINAL-URL:https://arkiv.barniuppsala.se
X-WR-CALDESC:Händelser för Arkiv för Barn i Uppsala
BEGIN:VTIMEZONE
TZID:Europe/Stockholm
BEGIN:DAYLIGHT
TZOFFSETFROM:+0100
TZOFFSETTO:+0200
TZNAME:CEST
DTSTART:20150329T010000
END:DAYLIGHT
BEGIN:STANDARD
TZOFFSETFROM:+0200
TZOFFSETTO:+0100
TZNAME:CET
DTSTART:20151025T010000
END:STANDARD
END:VTIMEZONE
BEGIN:VEVENT
DTSTART;TZID=Europe/Stockholm:20151122T120000
DTEND;TZID=Europe/Stockholm:20151122T160000
DTSTAMP:20260420T220842
CREATED:20151114T161907Z
LAST-MODIFIED:20151114T162534Z
UID:4346-1448193600-1448208000@arkiv.barniuppsala.se
SUMMARY:Gör din egen runsten
DESCRIPTION:Lördagar och söndagar anordnar Gamla Uppsala museum aktiviteter för barn och unga med start kl 14.00. \nSöndag 22 november är temat: Runor -gör din egen runsten. \nMuseet är öppet kl 12-16. \nVuxen: 80 kr (biljetten är personlig och berättigar till fria återbesök resten av året). \nBarn upp till 18 år i målsmans sällskap går in gratis. \nBild: wikimedia.org. \n  \n0SHARESDela eventet
URL:https://arkiv.barniuppsala.se/event/gor-din-egen-runsten/
LOCATION:Gamla Uppsala museum\, Tingsslätten 1\, 75440 
CATEGORIES:Museum,Pyssel
ATTACH;FMTTYPE=image/jpeg:https://arkiv.barniuppsala.se/wp-content/uploads/2015/11/runstenWM.jpg
GEO:59.8979199;17.6339179
X-APPLE-STRUCTURED-LOCATION;VALUE=URI;X-ADDRESS=Gamla Uppsala museum Tingsslätten 1 75440;X-APPLE-RADIUS=500;X-TITLE=Tingsslätten 1:geo:17.6339179,59.8979199
END:VEVENT
END:VCALENDAR