BEGIN:VCALENDAR
VERSION:2.0
PRODID:-//Arkiv för Barn i Uppsala - ECPv5.1.6//NONSGML v1.0//EN
CALSCALE:GREGORIAN
METHOD:PUBLISH
X-WR-CALNAME:Arkiv för Barn i Uppsala
X-ORIGINAL-URL:https://arkiv.barniuppsala.se
X-WR-CALDESC:Händelser för Arkiv för Barn i Uppsala
BEGIN:VTIMEZONE
TZID:Europe/Stockholm
BEGIN:DAYLIGHT
TZOFFSETFROM:+0100
TZOFFSETTO:+0200
TZNAME:CEST
DTSTART:20170326T010000
END:DAYLIGHT
BEGIN:STANDARD
TZOFFSETFROM:+0200
TZOFFSETTO:+0100
TZNAME:CET
DTSTART:20171029T010000
END:STANDARD
END:VTIMEZONE
BEGIN:VEVENT
DTSTART;TZID=Europe/Stockholm:20171030T130000
DTEND;TZID=Europe/Stockholm:20171030T150000
DTSTAMP:20260421T171526
CREATED:20171016T103651Z
LAST-MODIFIED:20171016T103651Z
UID:16254-1509368400-1509375600@arkiv.barniuppsala.se
SUMMARY:Höstlov: Gör egna bokmärken
DESCRIPTION:Bokmärkspyssel\nHöstlov är läslov och då behövs många roliga bokmärken! Alla barn som är sex år och äldre är välkomna till Brantingbiblioteket måndag 30 oktober kl 13-15 för att göra egna bokmärken. \nDrop in. \nBild från pixabay.com \n  \n\n\n 0SHARESDela eventet
URL:https://arkiv.barniuppsala.se/event/gor-egna-bocker/
LOCATION:Brantingsbiblioteket\, Brantingstorg 5\, 754 34
CATEGORIES:Barn,Bibliotek,Höstlov,Prova på,Pyssel
ATTACH;FMTTYPE=image/jpeg:https://arkiv.barniuppsala.se/wp-content/uploads/2017/10/bookmark-2727093_640.jpg
ORGANIZER;CN="Bibliotek%20Uppsala":MAILTO:kundtjanst@bibliotekuppsala.se
END:VEVENT
END:VCALENDAR