BEGIN:VCALENDAR
VERSION:2.0
PRODID:-//Arkiv för Barn i Uppsala - ECPv5.1.6//NONSGML v1.0//EN
CALSCALE:GREGORIAN
METHOD:PUBLISH
X-WR-CALNAME:Arkiv för Barn i Uppsala
X-ORIGINAL-URL:https://arkiv.barniuppsala.se
X-WR-CALDESC:Händelser för Arkiv för Barn i Uppsala
BEGIN:VTIMEZONE
TZID:Europe/Stockholm
BEGIN:DAYLIGHT
TZOFFSETFROM:+0100
TZOFFSETTO:+0200
TZNAME:CEST
DTSTART:20200329T010000
END:DAYLIGHT
BEGIN:STANDARD
TZOFFSETFROM:+0200
TZOFFSETTO:+0100
TZNAME:CET
DTSTART:20201025T010000
END:STANDARD
END:VTIMEZONE
BEGIN:VEVENT
DTSTART;TZID=Europe/Stockholm:20200706T093000
DTEND;TZID=Europe/Stockholm:20200706T123000
DTSTAMP:20260421T222619
CREATED:20200709T171333Z
LAST-MODIFIED:20200709T171333Z
UID:65318-1594027800-1594038600@arkiv.barniuppsala.se
SUMMARY:Gratis Cirkusskola med Uppsala Ungdomscirkus
DESCRIPTION:Gratis Cirkusskola med Uppsala Ungdomscirkus\nVälkommen till avgiftsfri CIRKUSSKOLA med Uppsala Ungdomscirkus.\nCirkuslek och träning i olika cirkusdiscipliner\, såsom akrobatik\, jonglering\, lina\, tyg\, trapets och klot\, enhjuling. \nDatum: \n\n\n\nVecka 28\n\n\nMåndagen den 6 juli 2020\, klockan 9.30-12.30\nTisdagen den 7 juli 2020\, klockan 9.30-12.30\nOnsdagen den 8 juli 2020\, klockan 9.30-12.30\nTorsdagen den 9 juli 2020\, klockan 9.30-12.30\nFredagen den 10 juli 2020\, klockan 9.30-12.30\n\n\nVecka 29\n\n\nMåndagen den 13 juli 2020\, klockan 9.30-12.30 samt 13.15-16.15\nTisdagen den 14 juli 2020\, klockan 9.30-12.30 samt 13.15-16.15\nOnsdagen den 15 juli 2020\, klockan 9.30-12.30 samt 13.15-16.15\nTorsdagen den 16 juli 2020\, klockan 9.30-12.30 samt 13.15-16.15\nFredagen den 17 juli 2020\, klockan 9.30-12.30 samt 13.15-16.15\n\n\nVecka 30\n\n\nMåndagen den 20 juli 2020\, klockan 9.30-12.30 samt 13.15-16.15\nTisdagen den 21 juli 2020\, klockan 9.30-12.30 samt 13.15-16.15\nOnsdagen den 22 juli 2020\, klockan 9.30-12.30 samt 13.15-16.15\nTorsdagen den 23 juli 2020\, klockan 9.30-12.30 samt 13.15-16.15\nFredagen den 24 juli 2020\, klockan 9.30-12.30 samt 13.15-16.15\n\n\n\nPlats: Brantingsskolans gård\, Uppsala\nÅlder: 6-12 år\nPris: Gratis\nAnmälan: \nBarnen kan vara med vid ett eller flera pass\, men behöver anmäla sig till varje pass som det ska delta i. \nAnmälan dig hos Uppsala Ungdomscirkus \n  \n\nOm Uppsala Ungdomscirkus\nUppsala Ungdomscirkus verkar ideellt för en meningsfull fritid för barn och ungdomar. \nAlla som bor i Uppsalatrakten kan ta del av cirkusverksamheten som artist eller som publik. \nCirkusens mål är att visa varje människas unika förmåga och öka självkännedomen hos barn och ungdomar med cirkus som redskap. \nCirkusens arbetssätt är att främja utveckling hos varje individ och grupp genom glädje och lekfullhet. Kamratskap och gemenskap präglar verksamheten. Träningen är varierad och tar tillvara allas intresseområden. \nUngdomarna lär sig olika sätt att uttrycka sig och uppträda inför publik. Som artister ger de föreställningar med olika cirkusnummer. De som vill får också lära sig att leda och lära ut cirkus. \n  \n\nBesök gärna länkarna nedan (externa länkar öppnas i ett nytt fönster/flik).\nUppsala Ungdomscirkus | Cirkusskola med Uppsala Ungdomscirkus | Anmälan till Cirkusskola | Kommande event på Sommarlovet  \nFoto: Uppsala Ungdomscirkus \n0SHARESDela eventet
URL:https://arkiv.barniuppsala.se/event/gratis-cirkusskola-uppsala-ungdomscirkus-2020/2020-07-06/
LOCATION:Brantingskolan\, Hjalmar Brantingsgatan 37  \, Uppsala\, 754 34\, Sverige
CATEGORIES:Ålderskategori,Anmälan,Anmälan / Kostnad,Barn,Cirkus, Tivoli & Trolleri,Eventkategorier,Geografisk kategori,Gratis,Kunskap och Lärande,Prova på,Skollov,Sommarlov,Sport & Motion,Uppsala Kommun,? Uppsala
ATTACH;FMTTYPE=image/jpeg:https://arkiv.barniuppsala.se/wp-content/uploads/2020/07/image4.jpeg
GEO:59.8672878;17.6690769
X-APPLE-STRUCTURED-LOCATION;VALUE=URI;X-ADDRESS=Brantingskolan Hjalmar Brantingsgatan 37   Uppsala 754 34 Sverige;X-APPLE-RADIUS=500;X-TITLE=Hjalmar Brantingsgatan 37:geo:17.6690769,59.8672878
END:VEVENT
END:VCALENDAR