BEGIN:VCALENDAR
VERSION:2.0
PRODID:-//Arkiv för Barn i Uppsala - ECPv5.1.6//NONSGML v1.0//EN
CALSCALE:GREGORIAN
METHOD:PUBLISH
X-WR-CALNAME:Arkiv för Barn i Uppsala
X-ORIGINAL-URL:https://arkiv.barniuppsala.se
X-WR-CALDESC:Händelser för Arkiv för Barn i Uppsala
BEGIN:VTIMEZONE
TZID:Europe/Stockholm
BEGIN:DAYLIGHT
TZOFFSETFROM:+0100
TZOFFSETTO:+0200
TZNAME:CEST
DTSTART:20150329T010000
END:DAYLIGHT
BEGIN:STANDARD
TZOFFSETFROM:+0200
TZOFFSETTO:+0100
TZNAME:CET
DTSTART:20151025T010000
END:STANDARD
END:VTIMEZONE
BEGIN:VEVENT
DTSTART;TZID=Europe/Stockholm:20151122T140000
DTEND;TZID=Europe/Stockholm:20151110T170000
DTSTAMP:20260420T201435
CREATED:20151110T205028Z
LAST-MODIFIED:20151110T205028Z
UID:4313-1448200800-1447174800@arkiv.barniuppsala.se
SUMMARY:Grodan och Kärleken
DESCRIPTION:Teater Bambino spelar Grodan och Kärleken\, en dockteater om vardagliga situationer. \nStadsbiblioteket 22 november kl 14. \nMöt Grodan och hans vänner i denna föreställning om vänskap och kärlek. Grodan är förväntansfull eftersom Haren har sagt att idag ska det bli en alldeles särskild dag. Det är nämligen en stor överraskning som väntar Grodan. \nFör barn 4-7 år. Biljetter kan hämtas eller bokas en vecka innan föreställningen.\nOBS! Inga småsyskon med. \nBild: pixabay.com. \n0SHARESDela eventet
URL:https://arkiv.barniuppsala.se/event/grodan-och-karleken/
LOCATION:Stadsbiblioteket\, Svartbäcksgatan 17\, Uppsala\, 753 75 \, Sverige
CATEGORIES:Teater och Bio
ATTACH;FMTTYPE=image/jpeg:https://arkiv.barniuppsala.se/wp-content/uploads/2015/11/lovegroda3.jpg
ORGANIZER;CN="Bibliotek%20Uppsala":MAILTO:kundtjanst@bibliotekuppsala.se
GEO:59.8606206;17.6353278
X-APPLE-STRUCTURED-LOCATION;VALUE=URI;X-ADDRESS=Stadsbiblioteket Svartbäcksgatan 17 Uppsala 753 75  Sverige;X-APPLE-RADIUS=500;X-TITLE=Svartbäcksgatan 17:geo:17.6353278,59.8606206
END:VEVENT
END:VCALENDAR