BEGIN:VCALENDAR
VERSION:2.0
PRODID:-//Arkiv för Barn i Uppsala - ECPv5.1.6//NONSGML v1.0//EN
CALSCALE:GREGORIAN
METHOD:PUBLISH
X-WR-CALNAME:Arkiv för Barn i Uppsala
X-ORIGINAL-URL:https://arkiv.barniuppsala.se
X-WR-CALDESC:Händelser för Arkiv för Barn i Uppsala
BEGIN:VTIMEZONE
TZID:Europe/Stockholm
BEGIN:DAYLIGHT
TZOFFSETFROM:+0100
TZOFFSETTO:+0200
TZNAME:CEST
DTSTART:20150329T010000
END:DAYLIGHT
BEGIN:STANDARD
TZOFFSETFROM:+0200
TZOFFSETTO:+0100
TZNAME:CET
DTSTART:20151025T010000
END:STANDARD
END:VTIMEZONE
BEGIN:VEVENT
DTSTART;TZID=Europe/Stockholm:20150912T140000
DTEND;TZID=Europe/Stockholm:20150912T150000
DTSTAMP:20260420T023648
CREATED:20150824T075915Z
LAST-MODIFIED:20150824T080353Z
UID:3244-1442066400-1442070000@arkiv.barniuppsala.se
SUMMARY:Guldlock och de tre björnarna.
DESCRIPTION:I ett litet hus långt inne i den stora skogen bor tre björnar. En dag vaknar de och ska som vanligt äta sin frukostgröt och som alla dagar är den för varm och då tar de som vanligt sin morgonpromenad medan gröten svalnar. Men just den här dagen kommer Guldlock till björnarnas hus och nyfiken som hon är kliver hon in\, och sedan blir inte den här dagen lik någon annan dag. För barn 2-4 år. \n0SHARESDela eventet
URL:https://arkiv.barniuppsala.se/event/guldlock-och-de-tre-bjornarna/
LOCATION:Den Lilla Teatern\, S:t Persgatan 22\, Uppsala\, 753 29
CATEGORIES:Teater och Bio
ATTACH;FMTTYPE=image/jpeg:https://arkiv.barniuppsala.se/wp-content/uploads/2015/07/bowl-46196_6401.jpg
GEO:59.8618076;17.6424759
X-APPLE-STRUCTURED-LOCATION;VALUE=URI;X-ADDRESS=Den Lilla Teatern S:t Persgatan 22 Uppsala 753 29;X-APPLE-RADIUS=500;X-TITLE=S:t Persgatan 22:geo:17.6424759,59.8618076
END:VEVENT
END:VCALENDAR