BEGIN:VCALENDAR
VERSION:2.0
PRODID:-//Arkiv för Barn i Uppsala - ECPv5.1.6//NONSGML v1.0//EN
CALSCALE:GREGORIAN
METHOD:PUBLISH
X-WR-CALNAME:Arkiv för Barn i Uppsala
X-ORIGINAL-URL:https://arkiv.barniuppsala.se
X-WR-CALDESC:Händelser för Arkiv för Barn i Uppsala
BEGIN:VTIMEZONE
TZID:Europe/Stockholm
BEGIN:DAYLIGHT
TZOFFSETFROM:+0100
TZOFFSETTO:+0200
TZNAME:CEST
DTSTART:20180325T010000
END:DAYLIGHT
BEGIN:STANDARD
TZOFFSETFROM:+0200
TZOFFSETTO:+0100
TZNAME:CET
DTSTART:20181028T010000
END:STANDARD
END:VTIMEZONE
BEGIN:VEVENT
DTSTART;TZID=Europe/Stockholm:20180513T120000
DTEND;TZID=Europe/Stockholm:20180513T180000
DTSTAMP:20260420T101335
CREATED:20180420T085741Z
LAST-MODIFIED:20180420T085741Z
UID:19587-1526212800-1526234400@arkiv.barniuppsala.se
SUMMARY:Hammarbydagen 2018
DESCRIPTION:Hammarbydagen 2018\nMöt våren hos familjen Linné.\nHammarbydagen 2018 – Följ med på visningar av sippor\, vårlök\, mossor\, lavar och bikupor. Vandra längs kulturstigen. Bygg bibatterier och smaka honung. Gå på tipspromenad och lär dig mer om  viktiga pollinatörer. \nGården Hammarby är en av Sveriges mest stilriktigt bevarade 1700-talsgårdar. Den köptes av Carl von Linné 1758 som en tillflykt från Uppsalas osunda miljö. Här speglas både Carl von Linnés privatliv och hans vetenskapliga gärning. \nI den lummiga parken frodas många av de växter Linné själv odlade. Från höjden ovanför gården kan man njuta av utsikten och drömma sig tillbaka till 1700-talets landskap. \nDatum: Söndag 13 maj\nTid: kl. 11–17\nVar: Linnés Hammarby\nPris: 80 kr / Fri entré för 1700-talsklädda.\nBarn 0-17 år gratis. \n\nHitta till Linnés Hammarby \nFrån E4 förbi Uppsala tag avfart 187 och kör väg 282 mot Edsbro. Tag sedan höger mot Danmark och Linnés Hammarby. Linnés Hammarby har GPS-koordinaterna WGS84 59° 49′ 3″ N\, 17° 46′ 35″ E och UTM-koordinaterna 59.8175°\, 17.776389°). \n\nFör mer information om Linnés Hammaby\, klicka här. (Länken öppnas i nytt fönster/flik.) \nBild från commons.wikimedia.org \n6SHARESDela eventet
URL:https://arkiv.barniuppsala.se/event/hammarbydagen-2018/
LOCATION:Linnés Hammarby\, Danmarks-Hammarby 18\, Uppsala\, 755 98\, Sverige
CATEGORIES:Djur,Kunskap och Lärande,Natur,Trädgård
ATTACH;FMTTYPE=image/jpeg:https://arkiv.barniuppsala.se/wp-content/uploads/2018/04/CarlvonLinne_Hammarby-e1524218249507.jpg
ORGANIZER;CN="Uppsala%20linneanska%20tr%C3%A4dg%C3%A5rdar":MAILTO:bokning@botan.uu.se
GEO:59.8176123;17.7762553
X-APPLE-STRUCTURED-LOCATION;VALUE=URI;X-ADDRESS=Linnés Hammarby Danmarks-Hammarby 18 Uppsala 755 98 Sverige;X-APPLE-RADIUS=500;X-TITLE=Danmarks-Hammarby 18:geo:17.7762553,59.8176123
END:VEVENT
END:VCALENDAR