BEGIN:VCALENDAR
VERSION:2.0
PRODID:-//Arkiv för Barn i Uppsala - ECPv5.1.6//NONSGML v1.0//EN
CALSCALE:GREGORIAN
METHOD:PUBLISH
X-WR-CALNAME:Arkiv för Barn i Uppsala
X-ORIGINAL-URL:https://arkiv.barniuppsala.se
X-WR-CALDESC:Händelser för Arkiv för Barn i Uppsala
BEGIN:VTIMEZONE
TZID:Europe/Stockholm
BEGIN:DAYLIGHT
TZOFFSETFROM:+0100
TZOFFSETTO:+0200
TZNAME:CEST
DTSTART:20180325T010000
END:DAYLIGHT
BEGIN:STANDARD
TZOFFSETFROM:+0200
TZOFFSETTO:+0100
TZNAME:CET
DTSTART:20181028T010000
END:STANDARD
END:VTIMEZONE
BEGIN:VEVENT
DTSTART;TZID=Europe/Stockholm:20180602T110000
DTEND;TZID=Europe/Stockholm:20180602T160000
DTSTAMP:20260420T124842
CREATED:20180518T072655Z
LAST-MODIFIED:20180518T072655Z
UID:19632-1527937200-1527955200@arkiv.barniuppsala.se
SUMMARY:Hargshamns strömmingsfestival 2018
DESCRIPTION:Strömmingsfestival\nVälkommen till Hargshamns strömmingsfestival 2018. Festivalen startar på lördagen och då bjuds det på strömmingsfiske\, barnaktiviteter\, marknadsstånd\, ponnyridning och mycket mer. \nProgram \nFisketurer. Åk med någon av deras båtar till Granösund och ryck strömming. De håller med flytväst och strömmingstackel och annat du behöver för fisket. Obs!! Ingen kostnad. (Men du kan lägga en slant i deras”bössa” om du gillar det de gör. \nÖvrigt under dagen. \nMassor med aktiviteter som passar både unga och gamla. Titta bara: Försäljning av strömmingsmackor\, korv och läsk. Fiskdamm\, ponnyridning och barntipspromenad\, lär dig splitsa och annat med tågvirke\, handla på utställningar och loppisar eller varför inte ta en flygtur över Hargshamn med helikopter. \nSjöräddningen brukar komma och i år kanske sjöscouterna\, polisen\, ambulansen och brandkåren kommer. \nEventuellt kommer även två annorlunda båtar till festivalen. Kom hit och låt dig bli överraskad. \nDet kan hända mer under dagen som ännu inte planerats så kom gärna och ta del av festligheterna. \nGRATIS parkering. \n1SHARESDela eventet
URL:https://arkiv.barniuppsala.se/event/hargshamns-strommingsfestival-2018/
LOCATION:Hargshamn\, Hargshamn\, 742 50
CATEGORIES:Djur,Marknad & Loppis
ATTACH;FMTTYPE=image/jpeg:https://arkiv.barniuppsala.se/wp-content/uploads/2018/04/deckchairs-355596_640.jpg
GEO:60.1666195;18.4724608
X-APPLE-STRUCTURED-LOCATION;VALUE=URI;X-ADDRESS=Hargshamn Hargshamn 742 50;X-APPLE-RADIUS=500;X-TITLE=Hargshamn:geo:18.4724608,60.1666195
END:VEVENT
END:VCALENDAR