BEGIN:VCALENDAR
VERSION:2.0
PRODID:-//Arkiv för Barn i Uppsala - ECPv5.1.6//NONSGML v1.0//EN
CALSCALE:GREGORIAN
METHOD:PUBLISH
X-WR-CALNAME:Arkiv för Barn i Uppsala
X-ORIGINAL-URL:https://arkiv.barniuppsala.se
X-WR-CALDESC:Händelser för Arkiv för Barn i Uppsala
BEGIN:VTIMEZONE
TZID:Europe/Stockholm
BEGIN:DAYLIGHT
TZOFFSETFROM:+0100
TZOFFSETTO:+0200
TZNAME:CEST
DTSTART:20150329T010000
END:DAYLIGHT
BEGIN:STANDARD
TZOFFSETFROM:+0200
TZOFFSETTO:+0100
TZNAME:CET
DTSTART:20151025T010000
END:STANDARD
END:VTIMEZONE
BEGIN:VEVENT
DTSTART;TZID=Europe/Stockholm:20151004T110000
DTEND;TZID=Europe/Stockholm:20151004T120000
DTSTAMP:20260420T061424
CREATED:20150827T075219Z
LAST-MODIFIED:20150827T075219Z
UID:3289-1443956400-1443960000@arkiv.barniuppsala.se
SUMMARY:Hästis på Lurbo Ridklubb
DESCRIPTION:Hästis är Lurbo ridklubbs verksamhet för de allra minsta ryttarna (3-6 år). Varje hästislektion innehåller är en timme och innehåller teori och ridning. Teorin består mest av pyssel med hästarna. Ridlektionen går ut på att på ett lekfullt sätt gå igenom ridningens grunder samt träna balans. Hästis kan ses som en mjukstart inför att börja på ridskolan ”på riktigt”.  Du anmäler dig till ett tillfälle i taget. \nOBS: Hitta.se visar inte var klubben ligger\, använd Google maps i stället. \n0SHARESDela eventet
URL:https://arkiv.barniuppsala.se/event/hastis-pa-lurbo-ridklubb-6/
LOCATION:Lurbo Ridklubb\, Uppsala-Näs Lurbo Gård\, Uppsala\, 755 91
CATEGORIES:Djur
ATTACH;FMTTYPE=image/jpeg:https://arkiv.barniuppsala.se/wp-content/uploads/2015/08/Ponny.jpg
GEO:59.7933764;17.6042245
X-APPLE-STRUCTURED-LOCATION;VALUE=URI;X-ADDRESS=Lurbo Ridklubb Uppsala-Näs Lurbo Gård Uppsala 755 91;X-APPLE-RADIUS=500;X-TITLE=Uppsala-Näs Lurbo Gård:geo:17.6042245,59.7933764
END:VEVENT
END:VCALENDAR