BEGIN:VCALENDAR
VERSION:2.0
PRODID:-//Arkiv för Barn i Uppsala - ECPv5.1.6//NONSGML v1.0//EN
CALSCALE:GREGORIAN
METHOD:PUBLISH
X-WR-CALNAME:Arkiv för Barn i Uppsala
X-ORIGINAL-URL:https://arkiv.barniuppsala.se
X-WR-CALDESC:Händelser för Arkiv för Barn i Uppsala
BEGIN:VTIMEZONE
TZID:Europe/Stockholm
BEGIN:DAYLIGHT
TZOFFSETFROM:+0100
TZOFFSETTO:+0200
TZNAME:CEST
DTSTART:20160327T010000
END:DAYLIGHT
BEGIN:STANDARD
TZOFFSETFROM:+0200
TZOFFSETTO:+0100
TZNAME:CET
DTSTART:20161030T010000
END:STANDARD
END:VTIMEZONE
BEGIN:VEVENT
DTSTART;TZID=Europe/Stockholm:20160708T110000
DTEND;TZID=Europe/Stockholm:20160708T173000
DTSTAMP:20260421T171916
CREATED:20160617T110027Z
LAST-MODIFIED:20160617T110027Z
UID:7403-1467975600-1467999000@arkiv.barniuppsala.se
SUMMARY:Heldag på Rävsten med bad\, natur och möjlighet att prova på kajak
DESCRIPTION:Följ med på en heldag till Rävsten\, söder om Gräsö\, där du får uppleva öns fantastiska natur! Båtresa t.o.r. Äspskär-Rävsten samt kaffe/te/saft och smörgås och en introduktion av ön vid ankomst ingår i turen. Egen matsäck inkl. lunch tas med för resten av dagen. På ön finns möjlighet till bad\, rodd och egna upptäcksfärder under dagen. För dig som vill prova på att paddla kajak finns ett fint tillfälle denna dag\, antingen för en kortare provtur inne i viken eller ett par timmars paddling i skärgården!\nTid och samling: Gräsöfärjan avgår kl 10 från Öregrund. Samling vid Äspskär på södra Gräsö kl 10.30 för gemensam avfärd med passbåt till Rävsten. Passbåt tillbaka från Rävsten kl 16.30\, lagom för att hinna med färjan som går från Öregrund kl 17. Bussåkare kan åka med en tidigare tur för att hinna med bussen kl 16.20.\nI samband med anmälan anges om du vill prova på att paddla kajak enligt prislista nedan.\nPris (inkl. båtresa\, fika vid ankomst och presentation av ön) vuxen 160 kr\, barn 6-12 år 120 kr\, under 6 år 50 kr (ej STF-medlem vuxen 200 kr/130 kr/60kr)\nAnmälan Senast måndag 4 juli till Camilla Andersson 070-541 98 57. \nPris för paddling: Prova på paddling under dagen:\n– provsitt och paddla i fjärden 50 kr\n– 2-3 h med guidning 250 kr\n– egen tur 3 h enmanskajak 175 kr/st\, tvåmanskajak 275 kr/st \nTa med egen lunch och ev. fika till em. Det går under eftermiddagen att köpa glass\, kaffe och lite annat i kiosken.\nSamarbetspartners Rävstens stugby och Gräsö kanotcentral \n0SHARESDela eventet
URL:https://arkiv.barniuppsala.se/event/heldag-pa-ravsten-med-bad-natur-och-mojlighet-att-prova-pa-kajak/
CATEGORIES:Djur
ORGANIZER;CN="Biotopia":MAILTO:info@biotopia.nu
END:VEVENT
END:VCALENDAR