BEGIN:VCALENDAR
VERSION:2.0
PRODID:-//Arkiv för Barn i Uppsala - ECPv5.1.6//NONSGML v1.0//EN
CALSCALE:GREGORIAN
METHOD:PUBLISH
X-WR-CALNAME:Arkiv för Barn i Uppsala
X-ORIGINAL-URL:https://arkiv.barniuppsala.se
X-WR-CALDESC:Händelser för Arkiv för Barn i Uppsala
BEGIN:VTIMEZONE
TZID:Europe/Stockholm
BEGIN:DAYLIGHT
TZOFFSETFROM:+0100
TZOFFSETTO:+0200
TZNAME:CEST
DTSTART:20170326T010000
END:DAYLIGHT
BEGIN:STANDARD
TZOFFSETFROM:+0200
TZOFFSETTO:+0100
TZNAME:CET
DTSTART:20171029T010000
END:STANDARD
END:VTIMEZONE
BEGIN:VEVENT
DTSTART;TZID=Europe/Stockholm:20170326T160000
DTEND;TZID=Europe/Stockholm:20170326T180000
DTSTAMP:20260420T044320
CREATED:20170324T103432Z
LAST-MODIFIED:20170324T103703Z
UID:12014-1490544000-1490551200@arkiv.barniuppsala.se
SUMMARY:Hjältar - en vårshow på skridskor i Gränby ishall
DESCRIPTION:Hjältar – en vårshow på skridskor\nEtt arrangemang av Uppsala skridskoklubb\nUppsala Skridskoklubb arrangerar söndagen den 26 mars en vårshow med temat ” USK:s Hjältar” i Gränby ishallar. \nAlla är välkomna på friåkning efter showen. \nNär: Söndag 26 mars klockan 15.00-17.00\nVar: Gränby ishall\, A-hallen \nKostnad:\n– Vuxen: 100 kr\n– Barn/Ungdom (7-15 år): 60 kr\n– Under -7 år: Gratis \nUppsala skridskoklubbs hemsida finner du här. \n  \nBild från pixabay.com \n0SHARESDela eventet
URL:https://arkiv.barniuppsala.se/event/hjaltar-varshow-pa-skridsko/
LOCATION:Gränby ishall\, Råbyvägen 71\, Uppsala\, 754 30\, Sverige
CATEGORIES:Sport & Motion,Teater och Bio,Uppvisning
ATTACH;FMTTYPE=image/jpeg:https://arkiv.barniuppsala.se/wp-content/uploads/2017/03/hjältar.jpg
ORGANIZER;CN="Uppsala%20skridskoklubb":MAILTO:styrelsen.uppsalask@gmail.com
GEO:59.8802357;17.6565891
X-APPLE-STRUCTURED-LOCATION;VALUE=URI;X-ADDRESS=Gränby ishall Råbyvägen 71 Uppsala 754 30 Sverige;X-APPLE-RADIUS=500;X-TITLE=Råbyvägen 71:geo:17.6565891,59.8802357
END:VEVENT
END:VCALENDAR