BEGIN:VCALENDAR
VERSION:2.0
PRODID:-//Arkiv för Barn i Uppsala - ECPv5.1.6//NONSGML v1.0//EN
CALSCALE:GREGORIAN
METHOD:PUBLISH
X-WR-CALNAME:Arkiv för Barn i Uppsala
X-ORIGINAL-URL:https://arkiv.barniuppsala.se
X-WR-CALDESC:Händelser för Arkiv för Barn i Uppsala
BEGIN:VTIMEZONE
TZID:Europe/Stockholm
BEGIN:DAYLIGHT
TZOFFSETFROM:+0100
TZOFFSETTO:+0200
TZNAME:CEST
DTSTART:20180325T010000
END:DAYLIGHT
BEGIN:STANDARD
TZOFFSETFROM:+0200
TZOFFSETTO:+0100
TZNAME:CET
DTSTART:20181028T010000
END:STANDARD
END:VTIMEZONE
BEGIN:VEVENT
DTSTART;TZID=Europe/Stockholm:20180324T123000
DTEND;TZID=Europe/Stockholm:20180324T123000
DTSTAMP:20260420T201318
CREATED:20180123T121406Z
LAST-MODIFIED:20180123T121406Z
UID:17605-1521894600-1521894600@arkiv.barniuppsala.se
SUMMARY:Honkan och Hanneluring
DESCRIPTION:Honkan och Hanneluring\n\n\nBarnteater med Awake Projects om mod och vänskap. \n\n\n\n3–8 år. Biljetter delas ut en vecka i förväg. \nBegränsat antal platser. \nTid och plats\nLördag 24 mars 12.30 \nBrantingsbiblioteket \nBild från: Pixabay.com \n\n 0SHARESDela eventet
URL:https://arkiv.barniuppsala.se/event/honkan-och-hanneluring/
LOCATION:Brantingsbiblioteket\, Brantingstorg 5\, 754 34
CATEGORIES:Barn,Bibliotek,Kunskap och Lärande
ATTACH;FMTTYPE=image/png:https://arkiv.barniuppsala.se/wp-content/uploads/2018/01/curtain-2757815_640.png
END:VEVENT
END:VCALENDAR